Workbook
Name Ersatzspalten: 'Price schedule | opt. services'!$I$3:$L$3
Name Ersatzspalten: 'Price schedule | Services'!$I$3:$L$3
Name Erstattungsart: [1]Listen!$B$4:$B$7
Name Erstattungsart: Lists!$B$4:$B$7
Name JaNein: [2]Listen!$D$4:$D$5
Name JaNein: [3]Listen!$D$4:$D$5
Name lSFK: '[4]Liste der Schlüsselfachkräfte'!$B$11:$B$34
Name lSFK: 'List of key experts'!$B$12:$B$35
Name rZeilen: 'Price schedule | opt. services'!$N$14:$N$20
Name rZeilen: 'Price schedule | Services'!$N$14:$N$20
Name VENr: '[1]Preisblatt | Leistung'!#REF!
Name VENr: '[5]Preisblatt | Leistung'!#REF!
Name VEspalten: '[1]Preisblatt | Leistung'!#REF!
Name VEspalten: '[5]Preisblatt | Leistung'!#REF!

Sheet Price schedule | Services
A1: Price schedule - Services
A2: CONFIDENTIAL
C3: Date:
C5: Contractor:
C7: Address:
A9: 1. Fixed price
A12: Item | B12: Description | D12: Quantity | E12: Remuneration | F12: Sum | G12: Explanations
A13: Total | F13: =D13*E13 -> 0
A14: Milestone 1 | F14: =D14*E14 -> 0
A15: Milestone 2 | F15: =D15*E15 -> 0
A16: Milestone 3 | F16: =D16*E16 -> 0
A17: Milestone 4 | F17: =D17*E17 -> 0
A18: Milestone 5 | F18: =D18*E18 -> 0
A19: Milestone 6 | F19: =D19*E19 -> 0
A20: Milestone 7 | F20: =D20*E20 -> 0
A22: Subtotal | F22: =SUM(F13:F21) -> 0
A24: 2. Fees and other costs related to contract
A26: The items listed below will be settled on the basis of time statements.
A27: 2.1 Fee – daily rate item | B27: Name | C27: Type of reimbursement | D27: Number of expert-days | E27: Remuneration | F27: Total | G27: Explanations
A28: Team leader | B28: =IFERROR(VLOOKUP(A28,'List of key experts'!$B$12:$D$35,3,0)&" "&VLOOKUP(A28,'List of key experts'!$B$12:$D$35,2,0),"N.N.") | C28: Lump sum/number | D28: 40 | F28: =D28*E28 -> 0
A29: Key expert 1 | B29: =IFERROR(VLOOKUP(A29,'List of key experts'!$B$12:$D$35,3,0)&" "&VLOOKUP(A29,'List of key experts'!$B$12:$D$35,2,0),"N.N.") | C29: Lump sum/number | F29: =D29*E29 -> 0
A30: Key expert 2 | B30: =IFERROR(VLOOKUP(A30,'List of key experts'!$B$12:$D$35,3,0)&" "&VLOOKUP(A30,'List of key experts'!$B$12:$D$35,2,0),"N.N.") | C30: Lump sum/number | F30: =D30*E30 -> 0
A31: Key expert 3 | B31: =IFERROR(VLOOKUP(A31,'List of key experts'!$B$12:$D$35,3,0)&" "&VLOOKUP(A31,'List of key experts'!$B$12:$D$35,2,0),"N.N.") | C31: Lump sum/number | F31: =D31*E31 -> 0
A32: Key expert 4 | B32: =IFERROR(VLOOKUP(A32,'List of key experts'!$B$12:$D$35,3,0)&" "&VLOOKUP(A32,'List of key experts'!$B$12:$D$35,2,0),"N.N.") | C32: Lump sum/number | F32: =D32*E32 -> 0
A33: Key expert 5 | B33: =IFERROR(VLOOKUP(A33,'List of key experts'!$B$12:$D$35,3,0)&" "&VLOOKUP(A33,'List of key experts'!$B$12:$D$35,2,0),"N.N.") | C33: Lump sum/number | F33: =D33*E33 -> 0
A34: Expert pool 1 | B34: =IFERROR(VLOOKUP(A34,'List of key experts'!$B$12:$D$35,3,0)&" "&VLOOKUP(A34,'List of key experts'!$B$12:$D$35,2,0),"N.N.") -> N.N. | C34: Lump sum/number | D34: 120 | F34: =D34*E34 -> 0
A35: Expert pool 2 | B35: =IFERROR(VLOOKUP(A35,'List of key experts'!$B$12:$D$35,3,0)&" "&VLOOKUP(A35,'List of key experts'!$B$12:$D$35,2,0),"N.N.") -> N.N. | C35: Lump sum/number | F35: =D35*E35 -> 0
A36: Expert pool 3 | B36: =IFERROR(VLOOKUP(A36,'List of key experts'!$B$12:$D$35,3,0)&" "&VLOOKUP(A36,'List of key experts'!$B$12:$D$35,2,0),"N.N.") -> N.N. | C36: Lump sum/number | F36: =D36*E36 -> 0
A37: Expert pool 4 | B37: =IFERROR(VLOOKUP(A37,'List of key experts'!$B$12:$D$35,3,0)&" "&VLOOKUP(A37,'List of key experts'!$B$12:$D$35,2,0),"N.N.") -> N.N. | C37: Lump sum/number | F37: =D37*E37 -> 0
A38: Expert pool 5 | B38: =IFERROR(VLOOKUP(A38,'List of key experts'!$B$12:$D$35,3,0)&" "&VLOOKUP(A38,'List of key experts'!$B$12:$D$35,2,0),"N.N.") -> N.N. | C38: Lump sum/number | F38: =D38*E38 -> 0
A40: Subtotal | F40: =SUM(F28:F39) -> 0
A42: 2.2 Costs related to the contract, Item | B42: Name | C42: Invoicing code | D42: Number | E42: Price | F42: Total | G42: Explanations
A43: Team leader | B43: =IFERROR(VLOOKUP(A43,'List of key experts'!$B$12:$D$35,3,0)&" "&VLOOKUP(A43,'List of key experts'!$B$12:$D$35,2,0),"N.N.") | C43: Lump sum/number | F43: =D43*E43 -> 0
A44: Key expert 1 | B44: =IFERROR(VLOOKUP(A44,'List of key experts'!$B$12:$D$35,3,0)&" "&VLOOKUP(A44,'List of key experts'!$B$12:$D$35,2,0),"N.N.") | C44: Lump sum/number | F44: =D44*E44 -> 0
A45: Key expert 2 | B45: =IFERROR(VLOOKUP(A45,'List of key experts'!$B$12:$D$35,3,0)&" "&VLOOKUP(A45,'List of key experts'!$B$12:$D$35,2,0),"N.N.") | C45: Lump sum/number | F45: =D45*E45 -> 0
A46: Key expert 3 | B46: =IFERROR(VLOOKUP(A46,'List of key experts'!$B$12:$D$35,3,0)&" "&VLOOKUP(A46,'List of key experts'!$B$12:$D$35,2,0),"N.N.") | C46: Lump sum/number | F46: =D46*E46 -> 0
A47: Key expert 4 | B47: =IFERROR(VLOOKUP(A47,'List of key experts'!$B$12:$D$35,3,0)&" "&VLOOKUP(A47,'List of key experts'!$B$12:$D$35,2,0),"N.N.") | C47: Lump sum/number | F47: =D47*E47 -> 0
A48: Key expert 5 | B48: =IFERROR(VLOOKUP(A48,'List of key experts'!$B$12:$D$35,3,0)&" "&VLOOKUP(A48,'List of key experts'!$B$12:$D$35,2,0),"N.N.") | C48: Lump sum/number | F48: =D48*E48 -> 0
A49: Expert pool 1 | B49: =IFERROR(VLOOKUP(A49,'List of key experts'!$B$12:$D$35,3,0)&" "&VLOOKUP(A49,'List of key experts'!$B$12:$D$35,2,0),"N.N.") -> N.N. | C49: Lump sum/number | F49: =D49*E49 -> 0
A50: Expert pool 2 | B50: =IFERROR(VLOOKUP(A50,'List of key experts'!$B$12:$D$35,3,0)&" "&VLOOKUP(A50,'List of key experts'!$B$12:$D$35,2,0),"N.N.") -> N.N. | C50: Lump sum/number | F50: =D50*E50 -> 0
...

Sheet Price schedule | opt. services
A1: Price schedule - opt. Services
A2: CONFIDENTIAL
C3: Date: | D3: =IF('Price schedule | Services'!D3="","",'Price schedule | Services'!D3)
C5: Contractor: | D5: ='Price schedule | Services'!D5 -> 0
C7: Address: | D7: ='Price schedule | Services'!D7 -> 0
A9: 1. Fixed price
A12: Item | B12: Description | D12: Quantity | E12: Remuneration | F12: Sum | G12: Explanations
A13: Total | F13: =D13*E13 -> 0
A14: Milestone 1 | F14: =D14*E14 -> 0
A15: Milestone 2 | F15: =D15*E15 -> 0
A16: Milestone 3 | F16: =D16*E16 -> 0
A17: Milestone 4 | F17: =D17*E17 -> 0
A18: Milestone 5 | F18: =D18*E18 -> 0
A19: Milestone 6 | F19: =D19*E19 -> 0
A20: Milestone 7 | F20: =D20*E20 -> 0
A22: Subtotal | F22: =SUM(F13:F21) -> 0
A24: 2. Fees and other costs related to contract
A25: The items listed below will be settled on the basis of time statements.
A27: 2.1 Fee – daily rate item | B27: Name | C27: Type of reimbursement | D27: Number of expert-days | E27: Remuneration | F27: Total | G27: Explanations
A28: Team leader | B28: =IFERROR(VLOOKUP(A28,'List of key experts'!$B$12:$D$35,3,0)&" "&VLOOKUP(A28,'List of key experts'!$B$12:$D$35,2,0),"N.N.") | C28: Lump sum/number | F28: =D28*E28 -> 0
A29: Key expert 1 | B29: =IFERROR(VLOOKUP(A29,'List of key experts'!$B$12:$D$35,3,0)&" "&VLOOKUP(A29,'List of key experts'!$B$12:$D$35,2,0),"N.N.") | C29: Lump sum/number | F29: =D29*E29 -> 0
A30: Key expert 2 | B30: =IFERROR(VLOOKUP(A30,'List of key experts'!$B$12:$D$35,3,0)&" "&VLOOKUP(A30,'List of key experts'!$B$12:$D$35,2,0),"N.N.") | C30: Lump sum/number | F30: =D30*E30 -> 0
A31: Key expert 3 | B31: =IFERROR(VLOOKUP(A31,'List of key experts'!$B$12:$D$35,3,0)&" "&VLOOKUP(A31,'List of key experts'!$B$12:$D$35,2,0),"N.N.") | C31: Lump sum/number | F31: =D31*E31 -> 0
A32: Key expert 4 | B32: =IFERROR(VLOOKUP(A32,'List of key experts'!$B$12:$D$35,3,0)&" "&VLOOKUP(A32,'List of key experts'!$B$12:$D$35,2,0),"N.N.") | C32: Lump sum/number | F32: =D32*E32 -> 0
A33: Key expert 5 | B33: =IFERROR(VLOOKUP(A33,'List of key experts'!$B$12:$D$35,3,0)&" "&VLOOKUP(A33,'List of key experts'!$B$12:$D$35,2,0),"N.N.") | C33: Lump sum/number | F33: =D33*E33 -> 0
A34: Expert pool 1 | B34: =IFERROR(VLOOKUP(A34,'List of key experts'!$B$12:$D$35,3,0)&" "&VLOOKUP(A34,'List of key experts'!$B$12:$D$35,2,0),"N.N.") -> N.N. | C34: Lump sum/number | F34: =D34*E34 -> 0
A35: Expert pool 2 | B35: =IFERROR(VLOOKUP(A35,'List of key experts'!$B$12:$D$35,3,0)&" "&VLOOKUP(A35,'List of key experts'!$B$12:$D$35,2,0),"N.N.") -> N.N. | C35: Lump sum/number | F35: =D35*E35 -> 0
A36: Expert pool 3 | B36: =IFERROR(VLOOKUP(A36,'List of key experts'!$B$12:$D$35,3,0)&" "&VLOOKUP(A36,'List of key experts'!$B$12:$D$35,2,0),"N.N.") -> N.N. | C36: Lump sum/number | F36: =D36*E36 -> 0
A37: Expert pool 4 | B37: =IFERROR(VLOOKUP(A37,'List of key experts'!$B$12:$D$35,3,0)&" "&VLOOKUP(A37,'List of key experts'!$B$12:$D$35,2,0),"N.N.") -> N.N. | C37: Lump sum/number | F37: =D37*E37 -> 0
A38: Expert pool 5 | B38: =IFERROR(VLOOKUP(A38,'List of key experts'!$B$12:$D$35,3,0)&" "&VLOOKUP(A38,'List of key experts'!$B$12:$D$35,2,0),"N.N.") -> N.N. | C38: Lump sum/number | F38: =D38*E38 -> 0
A40: Subtotal | F40: =SUM(F28:F39) -> 0
A42: 2.2 Costs related to the contract, Item | B42: Name | C42: Invoicing code | D42: Number | E42: Price | F42: Total | G42: Explanations
A43: Team leader | B43: =IFERROR(VLOOKUP(A43,'List of key experts'!$B$12:$D$35,3,0)&" "&VLOOKUP(A43,'List of key experts'!$B$12:$D$35,2,0),"N.N.") | C43: Lump sum/number | F43: =D43*E43 -> 0
A44: Key expert 1 | B44: =IFERROR(VLOOKUP(A44,'List of key experts'!$B$12:$D$35,3,0)&" "&VLOOKUP(A44,'List of key experts'!$B$12:$D$35,2,0),"N.N.") | C44: Lump sum/number | F44: =D44*E44 -> 0
A45: Key expert 2 | B45: =IFERROR(VLOOKUP(A45,'List of key experts'!$B$12:$D$35,3,0)&" "&VLOOKUP(A45,'List of key experts'!$B$12:$D$35,2,0),"N.N.") | C45: Lump sum/number | F45: =D45*E45 -> 0
A46: Key expert 3 | B46: =IFERROR(VLOOKUP(A46,'List of key experts'!$B$12:$D$35,3,0)&" "&VLOOKUP(A46,'List of key experts'!$B$12:$D$35,2,0),"N.N.") | C46: Lump sum/number | F46: =D46*E46 -> 0
A47: Key expert 4 | B47: =IFERROR(VLOOKUP(A47,'List of key experts'!$B$12:$D$35,3,0)&" "&VLOOKUP(A47,'List of key experts'!$B$12:$D$35,2,0),"N.N.") | C47: Lump sum/number | F47: =D47*E47 -> 0
A48: Key expert 5 | B48: =IFERROR(VLOOKUP(A48,'List of key experts'!$B$12:$D$35,3,0)&" "&VLOOKUP(A48,'List of key experts'!$B$12:$D$35,2,0),"N.N.") | C48: Lump sum/number | F48: =D48*E48 -> 0
A49: Expert pool 1 | B49: =IFERROR(VLOOKUP(A49,'List of key experts'!$B$12:$D$35,3,0)&" "&VLOOKUP(A49,'List of key experts'!$B$12:$D$35,2,0),"N.N.") -> N.N. | C49: Lump sum/number | F49: =D49*E49 -> 0
A50: Expert pool 2 | B50: =IFERROR(VLOOKUP(A50,'List of key experts'!$B$12:$D$35,3,0)&" "&VLOOKUP(A50,'List of key experts'!$B$12:$D$35,2,0),"N.N.") -> N.N. | C50: Lump sum/number | F50: =D50*E50 -> 0
...

Sheet Total services + opt.
A1: Total price schedule - Services + opt. services
A2: CONFIDENTIAL
C3: Date: | D3: =IF('Price schedule | Services'!D3="","",'Price schedule | Services'!D3)
C5: Contractor: | D5: ='Price schedule | Services'!D5 -> 0
C7: Address: | D7: ='Price schedule | Services'!D7 -> 0
A9: 1. Fixed price
A11: Subtotal | E11: ='Price schedule | Services'!F22+'Price schedule | opt. services'!F22 -> 0
A13: 2. Fees and other costs related to contract
A15: 2.1 Fee – daily rate
A16: Subtotal | E16: ='Price schedule | Services'!F40+'Price schedule | opt. services'!F40 -> 0
A18: 2.2 Costs related to the contract
A19: Subtotal | E19: ='Price schedule | Services'!F55+'Price schedule | opt. services'!F55 -> 0
A21: 3. Travel expenses
A22: Link to current country table of the Federal Government:
A23: https://www.bundesfinanzministerium.de/Content/DE/Downloads/BMF_Schreiben/Steuerarten/Lohnsteuer/2025-12-05-steuerliche-behandlung-reisekosten-2026.html (GERMAN ONLY)
A25: Subtotal | E25: ='Price schedule | Services'!F79+'Price schedule | opt. services'!F79 -> 15421
A27: 4. Other costs
A29: Subtotal | E29: ='Price schedule | Services'!F99+'Price schedule | opt. services'!F99 -> 8000
A31: 5. Total costs
A33: Total (net) | E33: ='Price schedule | Services'!F104+'Price schedule | opt. services'!F104 -> 23421

Sheet List of key experts
B2: List of key experts
B3: * Only experts for whom contract supplement is required
B4: ** If a key expert is replaced, please state the end date of the assignment in the explanations; enter the starting date of the assignment for the new expert
B5: CONFIDENTIAL
E6: Date: | F6: =IF('Price schedule | Services'!D3="","",'Price schedule | Services'!D3)
B11: Title of price schedule | C11: Family name | D11: Given name | E11: Date of birth | F11: Place of residence | G11: Explanation of contract supplements
B12: Team leader
B13: Key expert 1
B14: Key expert 2
B15: Key expert 3
B16: Key expert 4
B17: Key expert 5
B18: Key expert 6

Sheet Lists
B3: Type of reimbursement
B4: Please select
B5: Lump sum/number
B6: against evidence
B7: not applicable
