Workbook
Name CountryList_DE: Übersetzungen!$N$1:$N$252
Name CountryList_EN: Übersetzungen!$M$1:$M$252
Name CountryList_ES: Übersetzungen!$P$1:$P$252
Name CountryList_FR: Übersetzungen!$O$1:$O$252
Name LangList_DE: Übersetzungen!$V$1:$V$5
Name LangList_EN: Übersetzungen!$U$1:$U$5
Name LangList_ES: Übersetzungen!$X$1:$X$5
Name LangList_FR: Übersetzungen!$W$1:$W$5
Name Leistungsart_DE: Übersetzungen!$AA$1:$AA$6
Name Leistungsart_EN: Übersetzungen!$Z$1:$Z$6
Name Leistungsart_ES: Übersetzungen!$AC$1:$AC$6
Name Leistungsart_FR: Übersetzungen!$AB$1:$AB$6
Name lstXBlank: Übersetzungen!$Y$1:$Y$2
Name Organisationstyp_DE: Übersetzungen!$AI$1:$AI$6
Name Organisationstyp_EN: Übersetzungen!$AH$1:$AH$6
Name Organisationstyp_ES: Übersetzungen!$AK$1:$AK$6
Name Organisationstyp_FR: Übersetzungen!$AJ$1:$AJ$6
Name Quellensteuerpflicht_DE: Übersetzungen!$AE$1:$AE$4
Name Quellensteuerpflicht_EN: Übersetzungen!$AD$1:$AD$4
Name Quellensteuerpflicht_ES: Übersetzungen!$AG$1:$AG$4
Name Quellensteuerpflicht_FR: Übersetzungen!$AF$1:$AF$4
Name TaxStatus_DE: Übersetzungen!$R$1:$R$5
Name TaxStatus_EN: Übersetzungen!$Q$1:$Q$5
Name TaxStatus_ES: Übersetzungen!$T$1:$T$5
Name TaxStatus_FR: Übersetzungen!$S$1:$S$5
Name Wählen_Sie_Ihre__Sprache: 'BP all languages'!$B$1
Name Wählen_Sie_Ihre_Sprache: 'BP all languages'!$B$1

Sheet BP multilangual
B1: {=IFERROR(_xlfn.XLOOKUP("B1",tblTranslations[Key],INDEX(tblTranslations[],0,MATCH($D$1,tblTranslations[#Headers],0))),"")} -> Bitte Sprache auswählen>>> | D1: DE
B2: {=IFERROR(_xlfn.XLOOKUP("B2",tblTranslations[Key],INDEX(tblTranslations[],0,MATCH($D$1,tblTranslations[#Headers],0))),"")} -> Auftrag zur Erfassung eines Geschäftspartners (Auftragnehmer und Finanzierungsempfänger)
B4: {=IFERROR(_xlfn.XLOOKUP("B4",tblTranslations[Key],INDEX(tblTranslations[],0,MATCH($D$1,tblTranslations[#Headers],0))),"")} -> Bei Neuerfassung als Kreditor oder Änderungen relevanter Daten bitte das ausgefüllte Formular zurücksenden.
A6: {=IFERROR(_xlfn.XLOOKUP("A6",tblTranslations[Key],INDEX(tblTranslations[],0,MATCH($D$1,tblTranslations[#Headers],0))),"")} -> Falls Verfügbar - Bestehende GP-Nr.
F7: Keep data
A8: {=IFERROR(_xlfn.XLOOKUP("A8",tblTranslations[Key],INDEX(tblTranslations[],0,MATCH($D$1,tblTranslations[#Headers],0))),"")} -> Nur für GIZ: Auftragnehmer/Finanzierungsempfänger aus der Dropdown-Liste auswählen.
A9: {=IFERROR(_xlfn.XLOOKUP("A9",tblTranslations[Key],INDEX(tblTranslations[],0,MATCH($D$1,tblTranslations[#Headers],0))),"")} -> Auftragnehmer: Unternehmen, Lieferant oder Einzelperson
A10: {=IFERROR(_xlfn.XLOOKUP("A10",tblTranslations[Key],INDEX(tblTranslations[],0,MATCH($D$1,tblTranslations[#Headers],0))),"")} -> Finanzierungsempfänger
A11: {=IFERROR(_xlfn.XLOOKUP("A11",tblTranslations[Key],INDEX(tblTranslations[],0,MATCH($D$1,tblTranslations[#Headers],0))),"")} -> Spediteur
A12: {=IFERROR(_xlfn.XLOOKUP("A12",tblTranslations[Key],INDEX(tblTranslations[],0,MATCH($D$1,tblTranslations[#Headers],0))),"")} -> Arbeitsgemeinschaft (ARGE) | F12: Keep data
A13: {=IFERROR(_xlfn.XLOOKUP("A13",tblTranslations[Key],INDEX(tblTranslations[],0,MATCH($D$1,tblTranslations[#Headers],0))),"")} -> Organisationtyp (IATI) | F13: Keep data
A15: {=IFERROR(_xlfn.XLOOKUP("A15",tblTranslations[Key],INDEX(tblTranslations[],0,MATCH($D$1,tblTranslations[#Headers],0))),"")} -> Offizieller Name und Adresse (bitte die Felder unten ausfüllen)
A16: {=IFERROR(_xlfn.XLOOKUP("A16",tblTranslations[Key],INDEX(tblTranslations[],0,MATCH($D$1,tblTranslations[#Headers],0))),"")} -> Genauer Firmenname inkl. Rechtsform (laut Register) (optional: offizielle Abk.) ODER bei natürlicher Person: Nachname, Vorname | F16: Keep data
A17: {=IFERROR(_xlfn.XLOOKUP("A17",tblTranslations[Key],INDEX(tblTranslations[],0,MATCH($D$1,tblTranslations[#Headers],0))),"")} -> Straße + Nr. | F17: Keep data
A18: {=IFERROR(_xlfn.XLOOKUP("A18",tblTranslations[Key],INDEX(tblTranslations[],0,MATCH($D$1,tblTranslations[#Headers],0))),"")} -> PLZ | F18: Keep data
A19: {=IFERROR(_xlfn.XLOOKUP("A19",tblTranslations[Key],INDEX(tblTranslations[],0,MATCH($D$1,tblTranslations[#Headers],0))),"")} -> Ort | F19: Keep data
A20: {=IFERROR(_xlfn.XLOOKUP("A20",tblTranslations[Key],INDEX(tblTranslations[],0,MATCH($D$1,tblTranslations[#Headers],0))),"")} -> Optional – Bundesland | F20: Keep data
A21: {=IFERROR(_xlfn.XLOOKUP("A21",tblTranslations[Key],INDEX(tblTranslations[],0,MATCH($D$1,tblTranslations[#Headers],0))),"")} -> Land | C21: =_xlfn.LET(_xlpm.x,TRIM(D21),IF(OR(_xlpm.x="",_xlpm.x="Please select",_xlpm.x="Bitte auswählen",_xlpm.x="Veuillez sélectionner",_xlpm.x="Seleccione"),"",RIGHT(_xlpm.x,2))) | D21: =CHOOSE(MATCH($D$1,{"EN","DE","FR","ES"},0),"Please select","Bitte auswählen","Veuillez sélectionner","Seleccione") -> Bitte auswählen
A22: {=IFERROR(_xlfn.XLOOKUP("A22",tblTranslations[Key],INDEX(tblTranslations[],0,MATCH($D$1,tblTranslations[#Headers],0))),"")} -> Optional – Telefon
A23: {=IFERROR(_xlfn.XLOOKUP("A23",tblTranslations[Key],INDEX(tblTranslations[],0,MATCH($D$1,tblTranslations[#Headers],0))),"")} -> Optional – Fax
A24: {=IFERROR(_xlfn.XLOOKUP("A24",tblTranslations[Key],INDEX(tblTranslations[],0,MATCH($D$1,tblTranslations[#Headers],0))),"")} -> E-Mail | F24: Keep data
A25: {=IFERROR(_xlfn.XLOOKUP("A25",tblTranslations[Key],INDEX(tblTranslations[],0,MATCH($D$1,tblTranslations[#Headers],0))),"")} -> SAP-Kommunikationssprache | C25: =_xlfn.LET(_xlpm.x,TRIM(D25),IF(OR(_xlpm.x="",_xlpm.x="Please select",_xlpm.x="Bitte auswählen",_xlpm.x="Veuillez sélectionner",_xlpm.x="Seleccione"),"",LEFT(_xlpm.x,2))) | D25: =CHOOSE(MATCH($D$1,{"EN","DE","FR","ES"},0),"Please select","Bitte auswählen","Veuillez sélectionner","Seleccione") -> Bitte auswählen
A27: {=IFERROR(_xlfn.XLOOKUP("A27",tblTranslations[Key],INDEX(tblTranslations[],0,MATCH($D$1,tblTranslations[#Headers],0))),"")} -> Bankverbindung
A28: {=IFERROR(_xlfn.XLOOKUP("A28",tblTranslations[Key],INDEX(tblTranslations[],0,MATCH($D$1,tblTranslations[#Headers],0))),"")} -> Vollständiger rechtlicher Name des Kontoinhabers | C28: =IF(C16="","",C16)
A29: {=IFERROR(_xlfn.XLOOKUP("A29",tblTranslations[Key],INDEX(tblTranslations[],0,MATCH($D$1,tblTranslations[#Headers],0))),"")} -> IBAN
A30: {=IFERROR(_xlfn.XLOOKUP("A30",tblTranslations[Key],INDEX(tblTranslations[],0,MATCH($D$1,tblTranslations[#Headers],0))),"")} -> oder Kontonummer (nur falls keine IBAN)
A31: {=IFERROR(_xlfn.XLOOKUP("A31",tblTranslations[Key],INDEX(tblTranslations[],0,MATCH($D$1,tblTranslations[#Headers],0))),"")} -> BIC (SWIFT-Code)
A32: {=IFERROR(_xlfn.XLOOKUP("A32",tblTranslations[Key],INDEX(tblTranslations[],0,MATCH($D$1,tblTranslations[#Headers],0))),"")} -> Bankland | C32: =_xlfn.LET(_xlpm.x,TRIM(D32),IF(OR(_xlpm.x="",_xlpm.x="Please select",_xlpm.x="Bitte auswählen",_xlpm.x="Veuillez sélectionner",_xlpm.x="Seleccione"),"",RIGHT(_xlpm.x,2))) | D32: =CHOOSE(MATCH($D$1,{"EN","DE","FR","ES"},0),"Please select","Bitte auswählen","Veuillez sélectionner","Seleccione") -> Bitte auswählen | F32: Keep data
A34: {=IFERROR(_xlfn.XLOOKUP("A34",tblTranslations[Key],INDEX(tblTranslations[],0,MATCH($D$1,tblTranslations[#Headers],0))),"")} -> Einkommens- und Umsatzsteuerinformationen
A35: {=IFERROR(_xlfn.XLOOKUP("A35",tblTranslations[Key],INDEX(tblTranslations[],0,MATCH($D$1,tblTranslations[#Headers],0))),"")} -> Steuernummer
A36: {=IFERROR(_xlfn.XLOOKUP("A36",tblTranslations[Key],INDEX(tblTranslations[],0,MATCH($D$1,tblTranslations[#Headers],0))),"")} -> Nur falls zutreffend – USt.-Identifikationsnummer
A37: {=IFERROR(_xlfn.XLOOKUP("A37",tblTranslations[Key],INDEX(tblTranslations[],0,MATCH($D$1,tblTranslations[#Headers],0))),"")} -> Nur für Deutschland – Wirtschafts-Identifikationsnummer
A38: {=IFERROR(_xlfn.XLOOKUP("A38",tblTranslations[Key],INDEX(tblTranslations[],0,MATCH($D$1,tblTranslations[#Headers],0))),"")} -> USt - Unternehmereigenschaft (steuerlich) | C38: Bitte auswählen
A40: {=IFERROR(_xlfn.XLOOKUP("A40",tblTranslations[Key],INDEX(tblTranslations[],0,MATCH($D$1,tblTranslations[#Headers],0))),"")} -> Nur falls zutreffend – Quellensteuerinformationen
A41: {=IFERROR(_xlfn.XLOOKUP("A41",tblTranslations[Key],INDEX(tblTranslations[],Übersetzungen!B340,MATCH($D$1,tblTranslations[#Headers],0))),"")} -> Land, für das die Leistung/Lieferung erbracht wird
A42: {=IFERROR(_xlfn.XLOOKUP("A42",tblTranslations[Key],INDEX(tblTranslations[],0,MATCH($D$1,tblTranslations[#Headers],0))),"")} -> Leistungsart
A43: {=IFERROR(_xlfn.XLOOKUP("A43",tblTranslations[Key],INDEX(tblTranslations[],0,MATCH($D$1,tblTranslations[#Headers],0))),"")} -> Unterliegen Zahlungen der GIZ an den Auftragnehmer nach den Vorschriften im Land des Sitzes des Auftragnehmers oder im Land, in dem die erbrachte Leistung empfangen wird, einem Quellensteuerabzug?
A45: {=IFERROR(_xlfn.XLOOKUP("A45",tblTranslations[Key],INDEX(tblTranslations[],0,MATCH($D$1,tblTranslations[#Headers],0))),"")} -> Nur für GIZ
A46: {=IFERROR(_xlfn.XLOOKUP("A46",tblTranslations[Key],INDEX(tblTranslations[],0,MATCH($D$1,tblTranslations[#Headers],0))),"")} -> PN oder Kostenträger

Sheet Sheet2
A1: EN_English | C1: Währung (ISO4217)
A2: Andorra AD | B2: =RIGHT(A2,2) -> AD | C2: EUR
A3: Utd.Arab Emir. AE | B3: =RIGHT(A3,2) -> AE | C3: AED
A4: Afghanistan AF | B4: =RIGHT(A4,2) -> AF | C4: AFN
A5: Antigua/Barbuda AG | B5: =RIGHT(A5,2) -> AG | C5: XCD
A6: Anguilla AI | B6: =RIGHT(A6,2) -> AI | C6: XCD
A7: Albania AL | B7: =RIGHT(A7,2) -> AL | C7: ALL
A8: Armenia AM | B8: =RIGHT(A8,2) -> AM | C8: AMD
A9: Angola AO | B9: =RIGHT(A9,2) -> AO | C9: AOA
A10: Antarctica AQ | B10: =RIGHT(A10,2) -> AQ | C10: XXX
A11: Argentina AR | B11: =RIGHT(A11,2) -> AR | C11: ARS
A12: Samoa, America AS | B12: =RIGHT(A12,2) -> AS | C12: USD
A13: Austria AT | B13: =RIGHT(A13,2) -> AT | C13: EUR
... A252: Zimbabwe ZW | B252: =RIGHT(A252,2) -> ZW | C252: ZWG

Sheet AN-Typ
A1: AN-Typ
A3: 0001
A4: 0002
A5: 0003
A6: 0004
A7: 0005
A8: 0006
A9: 0009
A10: 0019
A11: 0020
A12: 0021
A13: 0022
... A20: 0190

Sheet BP all languages
B1: {=IFERROR(_xlfn.XLOOKUP("B1",tblTranslations[Key],INDEX(tblTranslations[],0,MATCH($D$1,tblTranslations[#Headers],0))),"")} -> Please select the language >>> | D1: EN
B2: {=IFERROR(_xlfn.XLOOKUP("B2",tblTranslations[Key],INDEX(tblTranslations[],0,MATCH($D$1,tblTranslations[#Headers],0))),"")} -> Order Form for Registration of a Business Partner (Contractor and Financing Recipient)
B4: {=IFERROR(_xlfn.XLOOKUP("B4",tblTranslations[Key],INDEX(tblTranslations[],0,MATCH($D$1,tblTranslations[#Headers],0))),"")} -> For new registration as a creditor or changes to relevant data, please send back the completed form.
F5: {=_xlfn.LET(_xlpm.lang,$D$1, _xlpm.idx, IFERROR(_xlfn.XMATCH(_xlpm.lang,{"EN","DE","FR","ES"}),2), _xlpm.val, IFERROR(_xlfn.XLOOKUP(ROW(), tblHelp_Ausfuellhilfe3[Row], CHOOSE(_xlpm.idx, tblHelp_Ausfuellhilfe3[EN], tblHelp_Ausfuellhilfe3[DE], tblHelp_Ausfuellhilfe3[FR], tblHelp_Ausfuellhilfe3[ES])), ""), IF(_xlpm.val=0, "", _xlpm.val))} -> Explanations:
A6: {=IFERROR(_xlfn.XLOOKUP("A6",tblTranslations[Key],INDEX(tblTranslations[],0,MATCH($D$1,tblTranslations[#Headers],0))),"")} -> If available – existing BP No. | F6: {=_xlfn.LET(_xlpm.lang,$D$1, _xlpm.idx, IFERROR(_xlfn.XMATCH(_xlpm.lang,{"EN","DE","FR","ES"}),2), _xlpm.val, IFERROR(_xlfn.XLOOKUP(ROW(), tblHelp_Ausfuellhilfe3[Row], CHOOSE(_xlpm.idx, tblHelp_Ausfuellhilfe3[EN], tblHelp_Ausfuellhilfe3[DE], tblHelp_Ausfuellhilfe3[FR], tblHelp_Ausfuellhilfe3[ES])), ""), IF(_xlpm.val=0, "", _xlpm.val))} -> Enter an existing SAP Business Partner (BP) number only if one already exists (e.g., for changes). In SAP, this uniquely links the form to the existing BP master record.
F7: {=_xlfn.LET(_xlpm.lang,$D$1, _xlpm.idx, IFERROR(_xlfn.XMATCH(_xlpm.lang,{"EN","DE","FR","ES"}),2), _xlpm.val, IFERROR(_xlfn.XLOOKUP(ROW(), tblHelp_Ausfuellhilfe3[Row], CHOOSE(_xlpm.idx, tblHelp_Ausfuellhilfe3[EN], tblHelp_Ausfuellhilfe3[DE], tblHelp_Ausfuellhilfe3[FR], tblHelp_Ausfuellhilfe3[ES])), ""), IF(_xlpm.val=0, "", _xlpm.val))}
A8: {=IFERROR(_xlfn.XLOOKUP("A8",tblTranslations[Key],INDEX(tblTranslations[],0,MATCH($D$1,tblTranslations[#Headers],0))),"")} -> For GIZ use only: Select Contractor/Financing Recipient from the Drop-down List. | F8: {=_xlfn.LET(_xlpm.lang,$D$1, _xlpm.idx, IFERROR(_xlfn.XMATCH(_xlpm.lang,{"EN","DE","FR","ES"}),2), _xlpm.val, IFERROR(_xlfn.XLOOKUP(ROW(), tblHelp_Ausfuellhilfe3[Row], CHOOSE(_xlpm.idx, tblHelp_Ausfuellhilfe3[EN], tblHelp_Ausfuellhilfe3[DE], tblHelp_Ausfuellhilfe3[FR], tblHelp_Ausfuellhilfe3[ES])), ""), IF(_xlpm.val=0, "", _xlpm.val))}
A9: {=IFERROR(_xlfn.XLOOKUP("A9",tblTranslations[Key],INDEX(tblTranslations[],0,MATCH($D$1,tblTranslations[#Headers],0))),"")} -> Contractor: company, supplier, or individual | C9: X | F9: {=_xlfn.LET(_xlpm.lang,$D$1, _xlpm.idx, IFERROR(_xlfn.XMATCH(_xlpm.lang,{"EN","DE","FR","ES"}),2), _xlpm.val, IFERROR(_xlfn.XLOOKUP(ROW(), tblHelp_Ausfuellhilfe3[Row], CHOOSE(_xlpm.idx, tblHelp_Ausfuellhilfe3[EN], tblHelp_Ausfuellhilfe3[DE], tblHelp_Ausfuellhilfe3[FR], tblHelp_Ausfuellhilfe3[ES])), ""), IF(_xlpm.val=0, "", _xlpm.val))} -> “Mark with an ”X" whether the party is a contractor/supplier or an individual for a procurement transaction. In SAP, this selection determines the purchasing organization for service and construction contracts as well as procurement of goods.
A10: {=IFERROR(_xlfn.XLOOKUP("A10",tblTranslations[Key],INDEX(tblTranslations[],0,MATCH($D$1,tblTranslations[#Headers],0))),"")} -> Financing recipient | F10: {=_xlfn.LET(_xlpm.lang,$D$1, _xlpm.idx, IFERROR(_xlfn.XMATCH(_xlpm.lang,{"EN","DE","FR","ES"}),2), _xlpm.val, IFERROR(_xlfn.XLOOKUP(ROW(), tblHelp_Ausfuellhilfe3[Row], CHOOSE(_xlpm.idx, tblHelp_Ausfuellhilfe3[EN], tblHelp_Ausfuellhilfe3[DE], tblHelp_Ausfuellhilfe3[FR], tblHelp_Ausfuellhilfe3[ES])), ""), IF(_xlpm.val=0, "", _xlpm.val))} -> Mark with “X” only if the business partner is an institution or a grant/financing recipient. This selection determines the purchasing organization for financing in SAP.
A11: {=IFERROR(_xlfn.XLOOKUP("A11",tblTranslations[Key],INDEX(tblTranslations[],0,MATCH($D$1,tblTranslations[#Headers],0))),"")} -> Carrier | D11: Bei Auswahl "Arbeitsgemeinschaft (ARGE)" bitte die SAP-Vorgangsnummer in D12 eintragen. | F11: {=_xlfn.LET(_xlpm.lang,$D$1, _xlpm.idx, IFERROR(_xlfn.XMATCH(_xlpm.lang,{"EN","DE","FR","ES"}),2), _xlpm.val, IFERROR(_xlfn.XLOOKUP(ROW(), tblHelp_Ausfuellhilfe3[Row], CHOOSE(_xlpm.idx, tblHelp_Ausfuellhilfe3[EN], tblHelp_Ausfuellhilfe3[DE], tblHelp_Ausfuellhilfe3[FR], tblHelp_Ausfuellhilfe3[ES])), ""), IF(_xlpm.val=0, "", _xlpm.val))} -> Select only if the partner also acts as a carrier/forwarder. In SAP this may influence logistics-related processing.
A12: {=IFERROR(_xlfn.XLOOKUP("A12",tblTranslations[Key],INDEX(tblTranslations[],0,MATCH($D$1,tblTranslations[#Headers],0))),"")} -> Consortium | F12: {=_xlfn.LET(_xlpm.lang,$D$1, _xlpm.idx, IFERROR(_xlfn.XMATCH(_xlpm.lang,{"EN","DE","FR","ES"}),2), _xlpm.val, IFERROR(_xlfn.XLOOKUP(ROW(), tblHelp_Ausfuellhilfe3[Row], CHOOSE(_xlpm.idx, tblHelp_Ausfuellhilfe3[EN], tblHelp_Ausfuellhilfe3[DE], tblHelp_Ausfuellhilfe3[FR], tblHelp_Ausfuellhilfe3[ES])), ""), IF(_xlpm.val=0, "", _xlpm.val))} -> Select only if this is a consortium/joint venture (ARGE). In SAP this can trigger special processing and settlement rules. For a consortium/joint venture only: enter the SAP operation number (45er number) so SAP can assign the BP to the correct operation/project context.
A13: {=IFERROR(_xlfn.XLOOKUP("A13",tblTranslations[Key],INDEX(tblTranslations[],0,MATCH($D$1,tblTranslations[#Headers],0))),"")} -> organisation type (IATI) | D13: =CHOOSE(MATCH($D$1,{"EN","DE","FR","ES"},0),"Please select","Bitte auswählen","Veuillez sélectionner","Seleccione") -> Please select | F13: {=_xlfn.LET(_xlpm.lang,$D$1, _xlpm.idx, IFERROR(_xlfn.XMATCH(_xlpm.lang,{"EN","DE","FR","ES"}),2), _xlpm.val, IFERROR(_xlfn.XLOOKUP(ROW(), tblHelp_Ausfuellhilfe3[Row], CHOOSE(_xlpm.idx, tblHelp_Ausfuellhilfe3[EN], tblHelp_Ausfuellhilfe3[DE], tblHelp_Ausfuellhilfe3[FR], tblHelp_Ausfuellhilfe3[ES])), ""), IF(_xlpm.val=0, "", _xlpm.val))} -> 70 – Private Sector: Companies, suppliers, hotels, legal entities such as Ltd., etc., 21 – NGO, 60 - Foundation, 80 - Academic, Training and Research: Universities and legally Independent Institutes, 90 – Individuals- Individual Experts including individuals who receive financing arrangements
F14: {=_xlfn.LET(_xlpm.lang,$D$1, _xlpm.idx, IFERROR(_xlfn.XMATCH(_xlpm.lang,{"EN","DE","FR","ES"}),2), _xlpm.val, IFERROR(_xlfn.XLOOKUP(ROW(), tblHelp_Ausfuellhilfe3[Row], CHOOSE(_xlpm.idx, tblHelp_Ausfuellhilfe3[EN], tblHelp_Ausfuellhilfe3[DE], tblHelp_Ausfuellhilfe3[FR], tblHelp_Ausfuellhilfe3[ES])), ""), IF(_xlpm.val=0, "", _xlpm.val))}
A15: {=IFERROR(_xlfn.XLOOKUP("A15",tblTranslations[Key],INDEX(tblTranslations[],0,MATCH($D$1,tblTranslations[#Headers],0))),"")} -> Official Name and Address (Please Complete the Fields Below) | F15: {=_xlfn.LET(_xlpm.lang,$D$1, _xlpm.idx, IFERROR(_xlfn.XMATCH(_xlpm.lang,{"EN","DE","FR","ES"}),2), _xlpm.val, IFERROR(_xlfn.XLOOKUP(ROW(), tblHelp_Ausfuellhilfe3[Row], CHOOSE(_xlpm.idx, tblHelp_Ausfuellhilfe3[EN], tblHelp_Ausfuellhilfe3[DE], tblHelp_Ausfuellhilfe3[FR], tblHelp_Ausfuellhilfe3[ES])), ""), IF(_xlpm.val=0, "", _xlpm.val))}
A16: {=IFERROR(_xlfn.XLOOKUP("A16",tblTranslations[Key],INDEX(tblTranslations[],0,MATCH($D$1,tblTranslations[#Headers],0))),"")} -> Exact company name incl. legal form (acc. Register) (optional: official abbr.) OR if a natural person: surname, first name | F16: {=_xlfn.LET(_xlpm.lang,$D$1, _xlpm.idx, IFERROR(_xlfn.XMATCH(_xlpm.lang,{"EN","DE","FR","ES"}),2), _xlpm.val, IFERROR(_xlfn.XLOOKUP(ROW(), tblHelp_Ausfuellhilfe3[Row], CHOOSE(_xlpm.idx, tblHelp_Ausfuellhilfe3[EN], tblHelp_Ausfuellhilfe3[DE], tblHelp_Ausfuellhilfe3[FR], tblHelp_Ausfuellhilfe3[ES])), ""), IF(_xlpm.val=0, "", _xlpm.val))} -> Enter the official company name including legal form exactly as per register (or for a natural person: surname, first name). Add an abbreviation only if needed (optional).
A17: {=IFERROR(_xlfn.XLOOKUP("A17",tblTranslations[Key],INDEX(tblTranslations[],0,MATCH($D$1,tblTranslations[#Headers],0))),"")} -> Street + No. | F17: {=_xlfn.LET(_xlpm.lang,$D$1, _xlpm.idx, IFERROR(_xlfn.XMATCH(_xlpm.lang,{"EN","DE","FR","ES"}),2), _xlpm.val, IFERROR(_xlfn.XLOOKUP(ROW(), tblHelp_Ausfuellhilfe3[Row], CHOOSE(_xlpm.idx, tblHelp_Ausfuellhilfe3[EN], tblHelp_Ausfuellhilfe3[DE], tblHelp_Ausfuellhilfe3[FR], tblHelp_Ausfuellhilfe3[ES])), ""), IF(_xlpm.val=0, "", _xlpm.val))} -> Enter street and house number according to the official address. Add-ons such as building or apartment numbers must be clearly indicated as an addition to the street and house number.
A18: {=IFERROR(_xlfn.XLOOKUP("A18",tblTranslations[Key],INDEX(tblTranslations[],0,MATCH($D$1,tblTranslations[#Headers],0))),"")} -> Postcode | F18: {=_xlfn.LET(_xlpm.lang,$D$1, _xlpm.idx, IFERROR(_xlfn.XMATCH(_xlpm.lang,{"EN","DE","FR","ES"}),2), _xlpm.val, IFERROR(_xlfn.XLOOKUP(ROW(), tblHelp_Ausfuellhilfe3[Row], CHOOSE(_xlpm.idx, tblHelp_Ausfuellhilfe3[EN], tblHelp_Ausfuellhilfe3[DE], tblHelp_Ausfuellhilfe3[FR], tblHelp_Ausfuellhilfe3[ES])), ""), IF(_xlpm.val=0, "", _xlpm.val))} -> Enter the postal code without additional characters (digits/letters as applicable by country). In SAP it is part of the standard address and supports plausibility checks.
A19: {=IFERROR(_xlfn.XLOOKUP("A19",tblTranslations[Key],INDEX(tblTranslations[],0,MATCH($D$1,tblTranslations[#Headers],0))),"")} -> City | F19: {=_xlfn.LET(_xlpm.lang,$D$1, _xlpm.idx, IFERROR(_xlfn.XMATCH(_xlpm.lang,{"EN","DE","FR","ES"}),2), _xlpm.val, IFERROR(_xlfn.XLOOKUP(ROW(), tblHelp_Ausfuellhilfe3[Row], CHOOSE(_xlpm.idx, tblHelp_Ausfuellhilfe3[EN], tblHelp_Ausfuellhilfe3[DE], tblHelp_Ausfuellhilfe3[FR], tblHelp_Ausfuellhilfe3[ES])), ""), IF(_xlpm.val=0, "", _xlpm.val))} -> Enter the city according to the official address. Select/enter it in the chosen SAP language.
A20: {=IFERROR(_xlfn.XLOOKUP("A20",tblTranslations[Key],INDEX(tblTranslations[],0,MATCH($D$1,tblTranslations[#Headers],0))),"")} -> Optional – Federal State | F20: {=_xlfn.LET(_xlpm.lang,$D$1, _xlpm.idx, IFERROR(_xlfn.XMATCH(_xlpm.lang,{"EN","DE","FR","ES"}),2), _xlpm.val, IFERROR(_xlfn.XLOOKUP(ROW(), tblHelp_Ausfuellhilfe3[Row], CHOOSE(_xlpm.idx, tblHelp_Ausfuellhilfe3[EN], tblHelp_Ausfuellhilfe3[DE], tblHelp_Ausfuellhilfe3[FR], tblHelp_Ausfuellhilfe3[ES])), ""), IF(_xlpm.val=0, "", _xlpm.val))} -> Optional: enter state/region only if relevant (e.g., US/CA/BR). In SAP this is stored as “Region”.
A21: {=IFERROR(_xlfn.XLOOKUP("A21",tblTranslations[Key],INDEX(tblTranslations[],0,MATCH($D$1,tblTranslations[#Headers],0))),"")} -> Country | C21: =_xlfn.LET(_xlpm.x,TRIM(D21),IF(OR(_xlpm.x="",_xlpm.x="Please select",_xlpm.x="Bitte auswählen",_xlpm.x="Veuillez sélectionner",_xlpm.x="Seleccione"),"",RIGHT(_xlpm.x,2))) | D21: =CHOOSE(MATCH($D$1,{"EN","DE","FR","ES"},0),"Please select","Bitte auswählen","Veuillez sélectionner","Seleccione") -> Please select | F21: {=_xlfn.LET(_xlpm.lang,$D$1, _xlpm.idx, IFERROR(_xlfn.XMATCH(_xlpm.lang,{"EN","DE","FR","ES"}),2), _xlpm.val, IFERROR(_xlfn.XLOOKUP(ROW(), tblHelp_Ausfuellhilfe3[Row], CHOOSE(_xlpm.idx, tblHelp_Ausfuellhilfe3[EN], tblHelp_Ausfuellhilfe3[DE], tblHelp_Ausfuellhilfe3[FR], tblHelp_Ausfuellhilfe3[ES])), ""), IF(_xlpm.val=0, "", _xlpm.val))} -> Select the country from the drop-down (country name + ISO).
A22: {=IFERROR(_xlfn.XLOOKUP("A22",tblTranslations[Key],INDEX(tblTranslations[],0,MATCH($D$1,tblTranslations[#Headers],0))),"")} -> Optional – Phone | F22: {=_xlfn.LET(_xlpm.lang,$D$1, _xlpm.idx, IFERROR(_xlfn.XMATCH(_xlpm.lang,{"EN","DE","FR","ES"}),2), _xlpm.val, IFERROR(_xlfn.XLOOKUP(ROW(), tblHelp_Ausfuellhilfe3[Row], CHOOSE(_xlpm.idx, tblHelp_Ausfuellhilfe3[EN], tblHelp_Ausfuellhilfe3[DE], tblHelp_Ausfuellhilfe3[FR], tblHelp_Ausfuellhilfe3[ES])), ""), IF(_xlpm.val=0, "", _xlpm.val))} -> Enter the phone number WITHOUT the country code (e.g., without +49 …). Use a consistent format without additional text.
A23: {=IFERROR(_xlfn.XLOOKUP("A23",tblTranslations[Key],INDEX(tblTranslations[],0,MATCH($D$1,tblTranslations[#Headers],0))),"")} -> Optional – Fax | F23: {=_xlfn.LET(_xlpm.lang,$D$1, _xlpm.idx, IFERROR(_xlfn.XMATCH(_xlpm.lang,{"EN","DE","FR","ES"}),2), _xlpm.val, IFERROR(_xlfn.XLOOKUP(ROW(), tblHelp_Ausfuellhilfe3[Row], CHOOSE(_xlpm.idx, tblHelp_Ausfuellhilfe3[EN], tblHelp_Ausfuellhilfe3[DE], tblHelp_Ausfuellhilfe3[FR], tblHelp_Ausfuellhilfe3[ES])), ""), IF(_xlpm.val=0, "", _xlpm.val))} -> Optional: enter a fax number in the same format as the phone number (including country code).
A24: {=IFERROR(_xlfn.XLOOKUP("A24",tblTranslations[Key],INDEX(tblTranslations[],0,MATCH($D$1,tblTranslations[#Headers],0))),"")} -> Email | F24: {=_xlfn.LET(_xlpm.lang,$D$1, _xlpm.idx, IFERROR(_xlfn.XMATCH(_xlpm.lang,{"EN","DE","FR","ES"}),2), _xlpm.val, IFERROR(_xlfn.XLOOKUP(ROW(), tblHelp_Ausfuellhilfe3[Row], CHOOSE(_xlpm.idx, tblHelp_Ausfuellhilfe3[EN], tblHelp_Ausfuellhilfe3[DE], tblHelp_Ausfuellhilfe3[FR], tblHelp_Ausfuellhilfe3[ES])), ""), IF(_xlpm.val=0, "", _xlpm.val))} -> Enter an email address in standard format (name@domain). In SAP this is stored as communication data (SMTP) and used for contact.
A25: {=IFERROR(_xlfn.XLOOKUP("A25",tblTranslations[Key],INDEX(tblTranslations[],0,MATCH($D$1,tblTranslations[#Headers],0))),"")} -> SAP Language of communication | D25: =CHOOSE(MATCH($D$1,{"EN","DE","FR","ES"},0),"Please select","Bitte auswählen","Veuillez sélectionner","Seleccione") -> Please select | F25: {=_xlfn.LET(_xlpm.lang,$D$1, _xlpm.idx, IFERROR(_xlfn.XMATCH(_xlpm.lang,{"EN","DE","FR","ES"}),2), _xlpm.val, IFERROR(_xlfn.XLOOKUP(ROW(), tblHelp_Ausfuellhilfe3[Row], CHOOSE(_xlpm.idx, tblHelp_Ausfuellhilfe3[EN], tblHelp_Ausfuellhilfe3[DE], tblHelp_Ausfuellhilfe3[FR], tblHelp_Ausfuellhilfe3[ES])), ""), IF(_xlpm.val=0, "", _xlpm.val))} -> Please select one of the four available SAP communication languages from the drop-down.
F26: {=_xlfn.LET(_xlpm.lang,$D$1, _xlpm.idx, IFERROR(_xlfn.XMATCH(_xlpm.lang,{"EN","DE","FR","ES"}),2), _xlpm.val, IFERROR(_xlfn.XLOOKUP(ROW(), tblHelp_Ausfuellhilfe3[Row], CHOOSE(_xlpm.idx, tblHelp_Ausfuellhilfe3[EN], tblHelp_Ausfuellhilfe3[DE], tblHelp_Ausfuellhilfe3[FR], tblHelp_Ausfuellhilfe3[ES])), ""), IF(_xlpm.val=0, "", _xlpm.val))}
A27: {=IFERROR(_xlfn.XLOOKUP("A27",tblTranslations[Key],INDEX(tblTranslations[],0,MATCH($D$1,tblTranslations[#Headers],0))),"")} -> Bank Details | F27: {=_xlfn.LET(_xlpm.lang,$D$1, _xlpm.idx, IFERROR(_xlfn.XMATCH(_xlpm.lang,{"EN","DE","FR","ES"}),2), _xlpm.val, IFERROR(_xlfn.XLOOKUP(ROW(), tblHelp_Ausfuellhilfe3[Row], CHOOSE(_xlpm.idx, tblHelp_Ausfuellhilfe3[EN], tblHelp_Ausfuellhilfe3[DE], tblHelp_Ausfuellhilfe3[FR], tblHelp_Ausfuellhilfe3[ES])), ""), IF(_xlpm.val=0, "", _xlpm.val))}
A28: {=IFERROR(_xlfn.XLOOKUP("A28",tblTranslations[Key],INDEX(tblTranslations[],0,MATCH($D$1,tblTranslations[#Headers],0))),"")} -> Full legal name of account holder | F28: {=_xlfn.LET(_xlpm.lang,$D$1, _xlpm.idx, IFERROR(_xlfn.XMATCH(_xlpm.lang,{"EN","DE","FR","ES"}),2), _xlpm.val, IFERROR(_xlfn.XLOOKUP(ROW(), tblHelp_Ausfuellhilfe3[Row], CHOOSE(_xlpm.idx, tblHelp_Ausfuellhilfe3[EN], tblHelp_Ausfuellhilfe3[DE], tblHelp_Ausfuellhilfe3[FR], tblHelp_Ausfuellhilfe3[ES])), ""), IF(_xlpm.val=0, "", _xlpm.val))} -> Account holder: the account holder's legal name.
A29: {=IFERROR(_xlfn.XLOOKUP("A29",tblTranslations[Key],INDEX(tblTranslations[],0,MATCH($D$1,tblTranslations[#Headers],0))),"")} -> IBAN | F29: {=_xlfn.LET(_xlpm.lang,$D$1, _xlpm.idx, IFERROR(_xlfn.XMATCH(_xlpm.lang,{"EN","DE","FR","ES"}),2), _xlpm.val, IFERROR(_xlfn.XLOOKUP(ROW(), tblHelp_Ausfuellhilfe3[Row], CHOOSE(_xlpm.idx, tblHelp_Ausfuellhilfe3[EN], tblHelp_Ausfuellhilfe3[DE], tblHelp_Ausfuellhilfe3[FR], tblHelp_Ausfuellhilfe3[ES])), ""), IF(_xlpm.val=0, "", _xlpm.val))} -> Enter the IBAN without spaces and without prefixes such as “IBAN:”. In SAP this is stored as the primary bank account; country-specific format checks may apply.
A30: {=IFERROR(_xlfn.XLOOKUP("A30",tblTranslations[Key],INDEX(tblTranslations[],0,MATCH($D$1,tblTranslations[#Headers],0))),"")} -> or account number (only if no IBAN) | F30: {=_xlfn.LET(_xlpm.lang,$D$1, _xlpm.idx, IFERROR(_xlfn.XMATCH(_xlpm.lang,{"EN","DE","FR","ES"}),2), _xlpm.val, IFERROR(_xlfn.XLOOKUP(ROW(), tblHelp_Ausfuellhilfe3[Row], CHOOSE(_xlpm.idx, tblHelp_Ausfuellhilfe3[EN], tblHelp_Ausfuellhilfe3[DE], tblHelp_Ausfuellhilfe3[FR], tblHelp_Ausfuellhilfe3[ES])), ""), IF(_xlpm.val=0, "", _xlpm.val))} -> Only if no IBAN is available in the country: enter the account number without spaces. Use the official account number provided by the bank.
A31: {=IFERROR(_xlfn.XLOOKUP("A31",tblTranslations[Key],INDEX(tblTranslations[],0,MATCH($D$1,tblTranslations[#Headers],0))),"")} -> BIC (SWIFT code) | F31: {=_xlfn.LET(_xlpm.lang,$D$1, _xlpm.idx, IFERROR(_xlfn.XMATCH(_xlpm.lang,{"EN","DE","FR","ES"}),2), _xlpm.val, IFERROR(_xlfn.XLOOKUP(ROW(), tblHelp_Ausfuellhilfe3[Row], CHOOSE(_xlpm.idx, tblHelp_Ausfuellhilfe3[EN], tblHelp_Ausfuellhilfe3[DE], tblHelp_Ausfuellhilfe3[FR], tblHelp_Ausfuellhilfe3[ES])), ""), IF(_xlpm.val=0, "", _xlpm.val))} -> Enter the BIC/SWIFT code without spaces. If the SWIFT code has 8 characters, add "XXX".
A32: {=IFERROR(_xlfn.XLOOKUP("A32",tblTranslations[Key],INDEX(tblTranslations[],0,MATCH($D$1,tblTranslations[#Headers],0))),"")} -> Bank country | C32: =_xlfn.LET(_xlpm.x,TRIM(D32),IF(OR(_xlpm.x="",_xlpm.x="Please select",_xlpm.x="Bitte auswählen",_xlpm.x="Veuillez sélectionner",_xlpm.x="Seleccione"),"",RIGHT(_xlpm.x,2))) | D32: =CHOOSE(MATCH($D$1,{"EN","DE","FR","ES"},0),"Please select","Bitte auswählen","Veuillez sélectionner","Seleccione") -> Please select | F32: {=_xlfn.LET(_xlpm.lang,$D$1, _xlpm.idx, IFERROR(_xlfn.XMATCH(_xlpm.lang,{"EN","DE","FR","ES"}),2), _xlpm.val, IFERROR(_xlfn.XLOOKUP(ROW(), tblHelp_Ausfuellhilfe3[Row], CHOOSE(_xlpm.idx, tblHelp_Ausfuellhilfe3[EN], tblHelp_Ausfuellhilfe3[DE], tblHelp_Ausfuellhilfe3[FR], tblHelp_Ausfuellhilfe3[ES])), ""), IF(_xlpm.val=0, "", _xlpm.val))} -> Select the bank country from the drop-down (country name + ISO). This supports SAP checks for bank details and country-specific rules.
F33: {=_xlfn.LET(_xlpm.lang,$D$1, _xlpm.idx, IFERROR(_xlfn.XMATCH(_xlpm.lang,{"EN","DE","FR","ES"}),2), _xlpm.val, IFERROR(_xlfn.XLOOKUP(ROW(), tblHelp_Ausfuellhilfe3[Row], CHOOSE(_xlpm.idx, tblHelp_Ausfuellhilfe3[EN], tblHelp_Ausfuellhilfe3[DE], tblHelp_Ausfuellhilfe3[FR], tblHelp_Ausfuellhilfe3[ES])), ""), IF(_xlpm.val=0, "", _xlpm.val))}
A34: {=IFERROR(_xlfn.XLOOKUP("A34",tblTranslations[Key],INDEX(tblTranslations[],0,MATCH($D$1,tblTranslations[#Headers],0))),"")} -> Income and VAT Tax Information | F34: {=_xlfn.LET(_xlpm.lang,$D$1, _xlpm.idx, IFERROR(_xlfn.XMATCH(_xlpm.lang,{"EN","DE","FR","ES"}),2), _xlpm.val, IFERROR(_xlfn.XLOOKUP(ROW(), tblHelp_Ausfuellhilfe3[Row], CHOOSE(_xlpm.idx, tblHelp_Ausfuellhilfe3[EN], tblHelp_Ausfuellhilfe3[DE], tblHelp_Ausfuellhilfe3[FR], tblHelp_Ausfuellhilfe3[ES])), ""), IF(_xlpm.val=0, "", _xlpm.val))}
A35: {=IFERROR(_xlfn.XLOOKUP("A35",tblTranslations[Key],INDEX(tblTranslations[],0,MATCH($D$1,tblTranslations[#Headers],0))),"")} -> Tax number | F35: {=_xlfn.LET(_xlpm.lang,$D$1, _xlpm.idx, IFERROR(_xlfn.XMATCH(_xlpm.lang,{"EN","DE","FR","ES"}),2), _xlpm.val, IFERROR(_xlfn.XLOOKUP(ROW(), tblHelp_Ausfuellhilfe3[Row], CHOOSE(_xlpm.idx, tblHelp_Ausfuellhilfe3[EN], tblHelp_Ausfuellhilfe3[DE], tblHelp_Ausfuellhilfe3[FR], tblHelp_Ausfuellhilfe3[ES])), ""), IF(_xlpm.val=0, "", _xlpm.val))} -> Enter the tax number issued by the local tax authority, without spaces. In SAP this supports tax-relevant master data and checks.
A36: {=IFERROR(_xlfn.XLOOKUP("A36",tblTranslations[Key],INDEX(tblTranslations[],0,MATCH($D$1,tblTranslations[#Headers],0))),"")} -> Only if Applicable – VAT identification number | F36: {=_xlfn.LET(_xlpm.lang,$D$1, _xlpm.idx, IFERROR(_xlfn.XMATCH(_xlpm.lang,{"EN","DE","FR","ES"}),2), _xlpm.val, IFERROR(_xlfn.XLOOKUP(ROW(), tblHelp_Ausfuellhilfe3[Row], CHOOSE(_xlpm.idx, tblHelp_Ausfuellhilfe3[EN], tblHelp_Ausfuellhilfe3[DE], tblHelp_Ausfuellhilfe3[FR], tblHelp_Ausfuellhilfe3[ES])), ""), IF(_xlpm.val=0, "", _xlpm.val))} -> Only if applicable: enter the VAT identification number (VAT ID) without spaces (e.g., within the EU). In SAP this is relevant for VAT reporting and tax determination.
A37: {=IFERROR(_xlfn.XLOOKUP("A37",tblTranslations[Key],INDEX(tblTranslations[],0,MATCH($D$1,tblTranslations[#Headers],0))),"")} -> For Germany only – Business identification number | F37: {=_xlfn.LET(_xlpm.lang,$D$1, _xlpm.idx, IFERROR(_xlfn.XMATCH(_xlpm.lang,{"EN","DE","FR","ES"}),2), _xlpm.val, IFERROR(_xlfn.XLOOKUP(ROW(), tblHelp_Ausfuellhilfe3[Row], CHOOSE(_xlpm.idx, tblHelp_Ausfuellhilfe3[EN], tblHelp_Ausfuellhilfe3[DE], tblHelp_Ausfuellhilfe3[FR], tblHelp_Ausfuellhilfe3[ES])), ""), IF(_xlpm.val=0, "", _xlpm.val))} -> Germany only: enter the business identification number (W-IdNr.), if available, without spaces.
A38: {=IFERROR(_xlfn.XLOOKUP("A38",tblTranslations[Key],INDEX(tblTranslations[],0,MATCH($D$1,tblTranslations[#Headers],0))),"")} -> VAT - Entrepreneurial tax status | C38: =CHOOSE(MATCH($D$1,{"EN","DE","FR","ES"},0),"Please select","Bitte auswählen","Veuillez sélectionner","Seleccione") -> Please select | F38: {=_xlfn.LET(_xlpm.lang,$D$1, _xlpm.idx, IFERROR(_xlfn.XMATCH(_xlpm.lang,{"EN","DE","FR","ES"}),2), _xlpm.val, IFERROR(_xlfn.XLOOKUP(ROW(), tblHelp_Ausfuellhilfe3[Row], CHOOSE(_xlpm.idx, tblHelp_Ausfuellhilfe3[EN], tblHelp_Ausfuellhilfe3[DE], tblHelp_Ausfuellhilfe3[FR], tblHelp_Ausfuellhilfe3[ES])), ""), IF(_xlpm.val=0, "", _xlpm.val))} -> Please indicate your VAT classification: 00 – International/intergovernmental organization: If you are an international or intergovernmental organization subject to special VAT rules.; 01 – Entrepreneur – standard case: If you carry out an economic activity and none of categories 00, 02, or 03 applies to you.; 02 – Non-profit/tax-privileged entrepreneur: If your company or organization is recognized as non-profit or tax-privileged under the law applicable to you.; 03 – Small business/Comparable national legislation: If you run a small business or a comparable national legislation applies to you.
F39: {=_xlfn.LET(_xlpm.lang,$D$1, _xlpm.idx, IFERROR(_xlfn.XMATCH(_xlpm.lang,{"EN","DE","FR","ES"}),2), _xlpm.val, IFERROR(_xlfn.XLOOKUP(ROW(), tblHelp_Ausfuellhilfe3[Row], CHOOSE(_xlpm.idx, tblHelp_Ausfuellhilfe3[EN], tblHelp_Ausfuellhilfe3[DE], tblHelp_Ausfuellhilfe3[FR], tblHelp_Ausfuellhilfe3[ES])), ""), IF(_xlpm.val=0, "", _xlpm.val))}
A40: {=IFERROR(_xlfn.XLOOKUP("A40",tblTranslations[Key],INDEX(tblTranslations[],0,MATCH($D$1,tblTranslations[#Headers],0))),"")} -> Only if applicable – Withholding Tax Information | F40: {=_xlfn.LET(_xlpm.lang,$D$1, _xlpm.idx, IFERROR(_xlfn.XMATCH(_xlpm.lang,{"EN","DE","FR","ES"}),2), _xlpm.val, IFERROR(_xlfn.XLOOKUP(ROW(), tblHelp_Ausfuellhilfe3[Row], CHOOSE(_xlpm.idx, tblHelp_Ausfuellhilfe3[EN], tblHelp_Ausfuellhilfe3[DE], tblHelp_Ausfuellhilfe3[FR], tblHelp_Ausfuellhilfe3[ES])), ""), IF(_xlpm.val=0, "", _xlpm.val))}
A41: {=IFERROR(_xlfn.XLOOKUP("A41",tblTranslations[Key],INDEX(tblTranslations[],0,MATCH($D$1,tblTranslations[#Headers],0))),"")} -> Country for which the service/delivery is provided | F41: {=_xlfn.LET(_xlpm.lang,$D$1, _xlpm.idx, IFERROR(_xlfn.XMATCH(_xlpm.lang,{"EN","DE","FR","ES"}),2), _xlpm.val, IFERROR(_xlfn.XLOOKUP(ROW(), tblHelp_Ausfuellhilfe3[Row], CHOOSE(_xlpm.idx, tblHelp_Ausfuellhilfe3[EN], tblHelp_Ausfuellhilfe3[DE], tblHelp_Ausfuellhilfe3[FR], tblHelp_Ausfuellhilfe3[ES])), ""), IF(_xlpm.val=0, "", _xlpm.val))} -> Please specify the country for which the service is provided or to which the goods are delivered. If necessary, multiple countries can be indicated. For services related to real estate or construction work, please specify the country in which the property is located.
...

Sheet Übersetzungen
A1: Key | B1: EN | C1: DE | D1: FR | E1: ES | G1: Language codes | H1: EN | J1: {=_xlfn.LET(_xlpm.l,'BP multilangual'!$F$1, _xlfn.XLOOKUP("PLEASE_SELECT",tblTranslations[Key], _xlfn.CHOOSECOLS(tblTranslations[], MATCH(_xlpm.l, tblTranslations[#Headers],0))))} -> #N/A | K1: {=_xlfn.LET(_xlpm.l,'BP multilangual'!$F$1, _xlfn.XLOOKUP("PLEASE_SELECT",tblTranslations[Key], _xlfn.CHOOSECOLS(tblTranslations[], MATCH(_xlpm.l, tblTranslations[#Headers],0))))} -> #N/A | L1: {=_xlfn.LET(_xlpm.l,'BP multilangual'!$F$1, _xlfn.XLOOKUP("PLEASE_SELECT",tblTranslations[Key], _xlfn.CHOOSECOLS(tblTranslations[], MATCH(_xlpm.l, tblTranslations[#Headers],0))))} -> #N/A | M1: Please select | N1: Bitte auswählen | O1: Veuillez sélectionner | P1: Seleccione | Q1: Please select | R1: Bitte auswählen | S1: Veuillez sélectionner | T1: Seleccione | U1: Please select | V1: Bitte auswählen | W1: Veuillez sélectionner | X1: Seleccione | Z1: Please select | AA1: Bitte auswählen | AB1: Veuillez sélectionner | AC1: Seleccione | AD1: Please select | AE1: Bitte auswählen | AF1: Veuillez sélectionner | AG1: Seleccione | AH1: Please select | AI1: Bitte auswählen | AJ1: Veuillez sélectionner | AK1: Seleccione
A2: B2 | B2: Order Form for Registration of a Business Partner (Contractor and Financing Recipient) | C2: Auftrag zur Erfassung eines Geschäftspartners (Auftragnehmer und Finanzierungsempfänger) | D2: Formulaire de demande d’enregistrement d’un partenaire commercial (prestataire et bénéficiaire du financement) | E2: Formulario de solicitud de registro de un socio comercial (contratista y beneficiario de la financiación) | H2: DE | J2: Andorra AD | K2: DE - German | L2: Steuerbefreit / tax-exempt | M2: =Sheet2!A2 -> Andorra AD | N2: Andorra AD | O2: Andorra AD | P2: Andorra AD | Q2: 00 - International/intergovernmental organization (e.g., EU, WHO, UN, World Bank) | R2: 00 - Internationale/zwischenstaatliche Organisation (z. B. EU, WHO, UN, Weltbank) | S2: 00 - Organisation internationale/intergouvernementale (par exemple : l'UE, l'OMS, l'ONU, la Banque mondiale) | T2: 00 - Organización internacional o intergubernamental (por ejemplo, la UE, la OMS, la ONU, el Banco Mundial) | U2: EN - English | V2: EN - Englisch | W2: EN - anglais | X2: EN - inglés | Y2: X | Z2: Services | AA2: Dienstleistungen | AB2: services | AC2: servicios | AD2: yes | AE2: ja | AF2: oui | AG2: sí | AH2: 70 - Private sector | AI2: 70 - Privatsektor | AJ2: 70 - Secteur pricé | AK2: 70 - Sector privado
A3: B4 | B3: For new registration as a creditor or changes to relevant data, please send back the completed form. | C3: Bei Neuerfassung als Kreditor oder Änderungen relevanter Daten bitte das ausgefüllte Formular zurücksenden. | D3: Pour créer un nouveau partenaire ou mettre à jour des données essentielles, veuillez remplir dûment le formulaire puis le renvoyer | E3: Para un nuevo registro como acreedor o cambios en datos relevantes, envíe el formulario debidamente cumplementado. | H3: FR | J3: Utd.Arab Emir. AE | K3: EN - English | L3: Stpfl. Unternehmer / taxable entrepreneur | M3: =Sheet2!A3 -> Utd.Arab Emir. AE | N3: Utd. Arab Emir. AE | O3: Utd.Arab Emir. AE | P3: Emir árabe de Utd. AE | Q3: 01 - Standard VAT-liable companies/persons - as a rule | R3: 01 - USt-pflichtige Unternehmen/Personen - Regelfall | S3: 01 - Entreprises/personnes normalement assujetties à la TVA - Règle générale | T3: 01 - Empresas/personas normalmente sujetas al IVA - Regla general | U3: DE - German | V3: DE - Deutsch | W3: DE - allemand | X3: DE - alemán | Z3: Goods | AA3: Sachgüter | AB3: biens | AC3: bienes | AD3: no | AE3: nein | AF3: non | AG3: no | AH3: 21 - International NGO | AI3: 21 - NGO | AJ3: 21 - ONG internationale | AK3: 21 - ONG internacional
A4: A6 | B4: If available – existing BP No. | C4: Falls Verfügbar - Bestehende GP-Nr. | D4: le numéro BP existant, le cas échéant | E4: Si está disponible – N.º de BP existente | H4: ES | J4: Afghanistan AF | K4: ES - Spanish | L4: Steuerbegünstigtes Unternehmen (z.B. Gemeinnützig) / Tax-privileged company (e.g. non-profit) | M4: =Sheet2!A4 -> Afghanistan AF | N4: Afghanistan AF | O4: Afghanistan AF | P4: Afganistán AF | Q4: 02 - Only non-profit/tax-privileged organizations (for example financing recipients). | R4: 02 - Nur gemeinnützige/steuerbegünstigte Organisationen (z.B. Finanzierungsempfänger) | S4: 02 - Uniquement les organisations à but non lucratif / bénéficiant d’avantages fiscaux (par example bénéficiaires de financements) | T4: 02 - Solo organizaciones sin fines de lucro / con beneficios fiscales (por ejemplo beneficiarios de financiación). | U4: FR - French | V4: FR - Französisch | W4: FR - français | X4: FR - francés | Z4: Financing | AA4: Finanzierungen | AB4: financements | AC4: financiación | AD4: unsure | AE4: weiß nicht | AF4: ne sait pas | AG4: no lo sé | AH4: 60 - Foundation | AI4: 60 - Stiftung | AJ4: 60 - Fondation | AK4: 60 - Fundación
A5: A8 | B5: For GIZ use only: Select Contractor/Financing Recipient from the Drop-down List. | C5: Nur für GIZ: Auftragnehmer/Finanzierungsempfänger aus der Dropdown-Liste auswählen. | D5: Réservé à la GIZ : sélectionner le prestataire/le bénéficiaire du financement dans la liste déroulante. | E5: Solo para GIZ: seleccione contratista/beneficiario de la financiación en la lista desplegable. | J5: Antigua/Barbuda AG | K5: FR - French | L5: Kleinunternehmer (EU: mit Ident Nummer) / small business owner (EU: with ident number) | M5: =Sheet2!A5 -> Antigua/Barbuda AG | N5: Antigua/Barbuda AG | O5: Antigua/Barbuda AG | P5: Antigua/Barbuda AG | Q5: 03 - Small business owners / comparable national regulations | R5: 03 - Kleinunternehmer / vergleichbare nationale Regelung | S5: 03 - Petits entrepreneurs / réglementation nationale équivalente | T5: 03 -Pequeños empresarios / normativa nacional equivalente | U5: ES - Spanish | V5: ES - Spanisch | W5: ES - espagnol | X5: ES - español | Z5: Construction Services | AA5: Bauleistungen | AB5: travaux de construction | AC5: obras de construcción | AH5: 80 - Academic, Training, Research | AI5: 80 - Wissenschaft, Ausbildung, Forschung | AJ5: 80 - Universitaire, formation, recherche | AK5: 80 - Académica, capacitación, Investigación
A6: A9 | B6: Contractor: company, supplier, or individual | C6: Auftragnehmer: Unternehmen, Lieferant oder Einzelperson | D6: Prestataire : entreprise, fournisseur ou personne physique | E6: Contratista: empresa, proveedor o persona física | J6: Anguilla AI | M6: =Sheet2!A6 -> Anguilla AI | N6: Anguilla AI | O6: Anguilla AI | P6: Anguilla AI | Z6: Other Services | AA6: Sonstige Leistungen | AB6: autres prestations | AC6: otras prestaciones | AH6: 90 - Other | AI6: 90 - Einzelpersonen | AJ6: 90 - Autre | AK6: 90 - Otro
A7: A10 | B7: Financing recipient | C7: Finanzierungsempfänger | D7: Bénéficiaire du financement | E7: Beneficiario de la financiación | J7: Albania AL | M7: =Sheet2!A7 -> Albania AL | N7: Albanien AL | O7: Albanie AL | P7: Albania AL
A8: A11 | B8: Carrier | C8: Spediteur | D8: Transporteur | E8: Transportista | J8: Armenia AM | M8: =Sheet2!A8 -> Armenia AM | N8: Armenien AM | O8: Arménie AM | P8: Armenia AM
A9: A12 | B9: Consortium | C9: Arbeitsgemeinschaft (ARGE) | D9: Consortium | E9: Consorcio | J9: Angola AO | M9: =Sheet2!A9 -> Angola AO | N9: Angola AO | O9: Angola AO | P9: Angola AO
A10: A13 | B10: organisation type (IATI) | C10: Organisationtyp (IATI) | D10: type d’organisation (IATI) | E10: tipo de organización (IATI) | J10: Antarctica AQ | M10: =Sheet2!A10 -> Antarctica AQ | N10: Antarktis AQ | O10: Antarctique AQ | P10: Antártida AQ
A11: A15 | B11: Official Name and Address (Please Complete the Fields Below) | C11: Offizieller Name und Adresse (bitte die Felder unten ausfüllen) | D11: Dénomination officielle et adresse (veuillez compléter les champs ci-dessous) | E11: Nombre oficial y dirección (complete los campos siguientes) | J11: Argentina AR | M11: =Sheet2!A11 -> Argentina AR | N11: Argentinien AR | O11: Argentine AR | P11: Argentina AR
A12: A16 | B12: Exact company name incl. legal form (acc. Register) (optional: official abbr.) OR if a natural person: surname, first name | C12: Genauer Firmenname inkl. Rechtsform (laut Register) (optional: offizielle Abk.) ODER bei natürlicher Person: Nachname, Vorname | D12: Dénomination exacte de l’entreprise, y compris la forme juridique (selon le registre) (facultatif : abrév. officielle) OU si personne physique : nom, prénom | E12: Nombre exacto de la empresa incluida la forma jurídica (según el registro) (opcional: abrev. oficial) O si es persona física: apellido, nombre | J12: Samoa, America AS | M12: =Sheet2!A12 -> Samoa, America AS | N12: Samoa, Amerika AS | O12: Samoa, Amérique AS | P12: Samoa, América AS
A13: A17 | B13: Street + No. | C13: Straße + Nr. | D13: Rue + n° | E13: Calle + n.º | J13: Austria AT | M13: =Sheet2!A13 -> Austria AT | N13: Österreich AT | O13: Autriche AT | P13: Austria AT
A14: A18 | B14: Postcode | C14: PLZ | D14: Code postal | E14: Código postal | J14: Australia AU | M14: =Sheet2!A14 -> Australia AU | N14: Australien AU | O14: Australie AU | P14: Australia AU
A15: A19 | B15: City | C15: Ort | D15: Ville | E15: Ciudad | J15: Aruba AW | M15: =Sheet2!A15 -> Aruba AW | N15: Aruba AW | O15: Aruba AW | P15: Aruba AW
A16: A20 | B16: Optional – Federal State | C16: Optional – Bundesland | D16: Facultatif – État fédéré | E16: Opcional – Estado federado | J16: Aland Islands AX | M16: =Sheet2!A16 -> Aland Islands AX | N16: Aland-Inseln AX | O16: Îles Aland AX | P16: Islas Aland AX
A17: A21 | B17: Country | C17: Land | D17: Pays | E17: País | J17: Azerbaijan AZ | M17: =Sheet2!A17 -> Azerbaijan AZ | N17: Aserbaidschan AZ | O17: Azerbaïdjan AZ | P17: Azerbaiyán AZ
A18: A22 | B18: Optional – Phone | C18: Optional – Telefon | D18: Facultatif – Téléphone | E18: Opcional – Teléfono | J18: Bosnia-Herz. BA | M18: =Sheet2!A18 -> Bosnia-Herz. BA | N18: Bosnien-Herz. BA | O18: Bosnie-Herz. BA | P18: Bosnia-Herz. BA
... A41: B1 | B41: Please select the language >>> | C41: Bitte Sprache auswählen>>> | D41: Veuillez sélectionner une langue >>> | E41: Por favor, seleccione un idioma >>> | J41: Rep.of Congo CD | M41: =Sheet2!A41 -> Rep.of Congo CD | N41: Republik Kongo CD | O41: Rep. du Congo CD | P41: República del Congo CD
J42: Cent. Afr. Rep. CF | M42: =Sheet2!A42 -> Cent. Afr. Rep. CF | N42: Cent. Afr. Rep. CF | O42: Cent. Afr. Rep. CF | P42: Cent. Representante Afr. CF
J43: Rep.of Congo CG | M43: =Sheet2!A43 -> Rep.of Congo CG | N43: Republik Kongo CG | O43: Rep. du Congo CG | P43: República del Congo CG
J44: Switzerland CH | M44: =Sheet2!A44 -> Switzerland CH | N44: Schweiz CH | O44: Suisse CH | P44: Suiza CH
J45: Cote d'Ivoire CI | M45: =Sheet2!A45 -> Cote d'Ivoire CI | N45: Côte d'Ivoire CI | O45: Côte d’Ivoire CI | P45: Costa de Marfil CI
J46: Cook Islands CK | M46: =Sheet2!A46 -> Cook Islands CK | N46: Cookinseln CK | O46: Îles Cook CK | P46: Islas Cook CK
J47: Chile CL | M47: =Sheet2!A47 -> Chile CL | N47: Chile CL | O47: Chili CL | P47: Chile CL
J48: Cameroon CM | M48: =Sheet2!A48 -> Cameroon CM | N48: Kamerun CM | O48: Cameroun CM | P48: Camerún CM
J49: China CN | M49: =Sheet2!A49 -> China CN | N49: China CN | O49: Chine CN | P49: China CN
J50: Colombia CO | M50: =Sheet2!A50 -> Colombia CO | N50: Kolumbien CO | O50: Colombie CO | P50: Colombia CO
J51: Costa Rica CR | M51: =Sheet2!A51 -> Costa Rica CR | N51: Costa Rica CR | O51: Costa Rica CR | P51: Costa Rica CR
J52: Cuba CU | M52: =Sheet2!A52 -> Cuba CU | N52: Kuba CU | O52: Cuba CU | P52: Cuba CU
J53: Cabo Verde CV | M53: =Sheet2!A53 -> Cabo Verde CV | N53: Kap Verde CV | O53: Cabo Verde CV | P53: Cabo Verde CV
... J252: Zimbabwe ZW | M252: =Sheet2!A252 -> Zimbabwe ZW | N252: Simbabwe ZW | O252: Zimbabwe ZW | P252: Zimbabue ZW

Sheet Ausfüllhilfe_Texte
A1: Row | B1: EN | C1: DE | D1: FR | E1: ES
A2: 5 | B2: Explanations: | C2: Erläuterungen: | D2: Explications: | E2: Explicaciones:
A3: 6 | B3: Enter an existing SAP Business Partner (BP) number only if one already exists (e.g., for changes). In SAP, this uniquely links the form to the existing BP master record. | C3: Bestehende SAP Business-Partner-Nummer (GP) nur eintragen, wenn bereits vorhanden (z. B. bei Änderungen). In SAP dient dies der eindeutigen Zuordnung zum vorhandenen BP-Datensatz. | D3: Saisir un numéro de Business Partner SAP (BP) existant uniquement s'il existe déjà (p. ex. pour des modifications). Dans SAP, cela permet de rattacher le formulaire au dossier BP existant. | E3: Introduzca un número de Business Partner (BP) existente solo si ya existe (p. ej., para cambios). En SAP sirve para vincular inequívocamente el formulario con el registro maestro del BP.
A4: 7 | D4: Renseigner le numéro de partenaire commercial SAP (BP) existant uniquement s’il a déjà été attribué, par exemple en cas de mise à jour. Dans SAP, ce numéro permet d’identifier de manière de manière précise le dossier BP correspondant. »
A5: 8
A6: 9 | B6: “Mark with an ”X" whether the party is a contractor/supplier or an individual for a procurement transaction. In SAP, this selection determines the purchasing organization for service and construction contracts as well as procurement of goods. | C6: Kennzeichne mit „X“, ob es sich um einen Auftragnehmer/Lieferanten oder eine natürliche Person für eine Beschaffung handelt. Diese Auswahl steuert in SAP die Einkaufsorganisation für Dienstleistungs- und Bauverträge sowie Sachgüterbeschaffungen. | D6: Indiquer par « X » s'il s'agit d'un prestataire/fournisseur ou d'une personne physique. Cette sélection contrôle dans SAP l'organisation des achats pour les contrats de services et de construction ainsi que les achats de matériels et équipements. | E6: Marque con “X” si el socio comercial es contratista/proveedor o persona física. Esta selección controla en SAP la organización de compras para contratos de servicios y construcción, así como adquisiciones de bienes.
A7: 10 | B7: Mark with “X” only if the business partner is an institution or a grant/financing recipient. This selection determines the purchasing organization for financing in SAP. | C7: Falls der Geschäftspartner eine Institution/Zuschuss- oder Finanzierungsempfänger ist: mit „X“ markieren. Diese Auswahl steuert in SAP die Einkaufsorganisation für Finanzierungen. | D7: Cocher « X » uniquement si le partenaire est une institution ou un bénéficiaire de subvention/financement. Cette sélection contrôle dans SAP l'organisation des achats pour les financements. | E7: Marque con “X” solo si el socio es una institución o beneficiario de subvención/financiación. Esta selección controla en SAP la organización de compras para financiaciones.
A8: 11 | B8: Select only if the partner also acts as a carrier/forwarder. In SAP this may influence logistics-related processing. | C8: Nur markieren, wenn der Partner zusätzlich als Spediteur/Carrier agiert. | D8: Cocher uniquement si le partenaire agit aussi en tant que transporteur/commissionnaire. Dans SAP, cela peut influencer les processus logistiques. | E8: Marque solo si el socio también actúa como transportista/forwarder. En SAP puede influir en procesos logísticos.
A9: 12 | B9: Select only if this is a consortium/joint venture (ARGE). In SAP this can trigger special processing and settlement rules. For a consortium/joint venture only: enter the SAP operation number (45er number) so SAP can assign the BP to the correct operation/project context. | C9: Nur markieren, wenn es sich um ein Konsortium/ARGE handelt. Bei Konsortium/ARGE: SAP-Vorgangsnummer (45er Nummer) eintragen, damit die Zuordnung in SAP eindeutig ist. | D9: Cocher uniquement s'il s'agit d'un consortium/ARGE. Dans SAP, cela peut déclencher des règles spécifiques de traitement et de facturation. Pour un consortium/ARGE uniquement : saisir le numéro d'opération SAP (numéro 45) afin que SAP puisse rattacher le PC au bon contexte d'opération/projet. | E9: Marque solo si se trata de un consorcio/UTE (ARGE). En SAP puede activar reglas especiales de tramitación y liquidación. Solo para consorcios/UTE: introduzca el número de operación SAP (Número 45) para que SAP asigne el BP al contexto correcto de operación/proyecto.
A10: 13 | B10: 70 – Private Sector: Companies, suppliers, hotels, legal entities such as Ltd., etc., 21 – NGO, 60 - Foundation, 80 - Academic, Training and Research: Universities and legally Independent Institutes, 90 – Individuals- Individual Experts including individuals who receive financing arrangements | C10: 70- Privatsektor Erläuterung: Firmen, Lieferanten, Hotels, juristische Personen wie GmbH etc., 21- NGO Erläuterung: gemeinnützige Organisationen, NGO und Vereinen (e.V.), Verbände, Kammern etc., 60-Stiftung, 80 - Wissenschaft, Ausbildung, Forschung Erläuterung: Universitäten und rechtlich eigenständige Institute, 90 – Einzelpersonen Erläuterung: Einzelpersonen einschl. Personen, die Finanzierungen empfangen | D10: 70 – Sectuer Privé: Entreprises, fournisseurs, hôtels, personnes morales telles que les SARL, etc., 21 – ONG, 60 – Fondation, 80 – Universitaire, Formation et Recherche, 90 – Expert individual: personnes physiques , y compris les personnes qui reçoivent des financements | E10: 70 – Sector Privado: Empresas, proveedores, hoteles, personas jurídicas como las sociedades de responsabilidad limitada etc, 21 – ONG, 60 – Fundación, 80 – Académica, Capacitación e Investigación: Universidades e institutos con personalidad jurídica, 90 - Persona física: Personas físicas, incluidas las personas que reciben financiamiento
A11: 14
A12: 15
A13: 16 | B13: Enter the official company name including legal form exactly as per register (or for a natural person: surname, first name). Add an abbreviation only if needed (optional). | C13: Amtlicher Firmenname inkl. Rechtsform exakt wie im Register (oder bei natürlicher Person: Nachname, Vorname). Abkürzung nur optional ergänzen. | D13: Saisir la dénomination officielle avec la forme juridique exactement comme au registre (ou, pour une personne physique : nom, prénom). Ajouter une abréviation uniquement si nécessaire (facultatif). | E13: Introduzca la denominación oficial incluyendo la forma jurídica exactamente según el registro (o, para persona física: apellidos, nombre). Añada una abreviatura solo si es necesario (opcional).
A14: 17 | B14: Enter street and house number according to the official address. Add-ons such as building or apartment numbers must be clearly indicated as an addition to the street and house number. | C14: Straße und Hausnummer gemäß offizieller Anschrift eintragen. Zusätze wie zB Gebäude- oder Appartmentnr. müssen eindeutig ersichtlich sein als Zusatz zur Straße + Hausnr. | D14: Saisir la rue et le numéro selon l'adresse officielle. Les compléments tels que le numéro de bâtiment ou d'appartement doivent être clairement indiqués comme information additionnelle à la rue et du numéro. | E14: Introduzca la calle y el número según la dirección oficial. Los complementos como el número de edificio o de apartamento deben indicarse claramente como añadido a la calle y al número.
A15: 18 | B15: Enter the postal code without additional characters (digits/letters as applicable by country). In SAP it is part of the standard address and supports plausibility checks. | C15: Postleitzahl ohne Zusatzzeichen (nur Ziffern/Buchstaben je Land). In SAP Teil der Standardadresse; wichtig für Plausibilitätsprüfung. | D15: Saisir le code postal sans caractères supplémentaires (chiffres/lettres selon le pays). Dans SAP, il fait partie de l'adresse standard et sert aux contrôles de plausibilité. | E15: Introduzca el código postal sin caracteres adicionales (dígitos/letras según el país). En SAP forma parte de la dirección estándar y sirve para validaciones.
A16: 19 | B16: Enter the city according to the official address. Select/enter it in the chosen SAP language. | C16: Stadt gemäß offizieller Anschrift. Auszuwählen in der gewählten SAP-Sprache | D16: Saisir la ville conformément à l'adresse officielle. La saisir/la sélectionner dans la langue SAP choisie. | E16: Introduzca la ciudad según la dirección oficial. Selecciónela/introduzca en el idioma SAP seleccionado.
A17: 20 | B17: Optional: enter state/region only if relevant (e.g., US/CA/BR). In SAP this is stored as “Region”. | C17: Optional: Bundesland/Region nur wenn relevant (z. B. für US/CA/BR). In SAP wird dies als Region geführt. | D17: Facultatif : saisir l'État/la région uniquement si pertinent (p. ex. US/CA/BR). Dans SAP, cela est enregistré comme « Région ». | E17: Opcional: introduzca estado/región solo si es relevante (p. ej., US/CA/BR). En SAP se guarda como “Región”.
A18: 21 | B18: Select the country from the drop-down (country name + ISO). | C18: Land aus Dropdown auswählen (Landname + ISO). | D18: Sélectionner le pays dans la liste déroulante (nom du pays + code ISO). | E18: Seleccione el país en el desplegable (nombre del país + ISO).
A19: 22 | B19: Enter the phone number WITHOUT the country code (e.g., without +49 …). Use a consistent format without additional text. | C19: Telefonnummer OHNE Landesvorwahl eintragen (z. B. ohne +49 …). Einheitliches Format ohne Zusatztext verwenden. | D19: Saisir le numéro de téléphone SANS l’indicatif du pays (p. ex. sans +49 …), sans espace. Utiliser un format uniforme sans texte additionnel. | E19: Introduzca el número de teléfono SIN prefijo de país (p. ej., sin +49 …). Use un formato uniforme sin texto adicional.
A20: 23 | B20: Optional: enter a fax number in the same format as the phone number (including country code). | C20: Optional: Faxnummer (Format wie Telefon). | D20: Facultatif : saisir un numéro de fax au même format que le téléphone (avec indicatif pays). | E20: Opcional: introduzca un fax con el mismo formato que el teléfono (sin prefijo del país).
A21: 24 | B21: Enter an email address in standard format (name@domain). In SAP this is stored as communication data (SMTP) and used for contact. | C21: E-Mail-Adresse im Standardformat (name@domain). In SAP als Kommunikationsdaten (SMTP) – wichtig für Kontaktaufnahme | D21: Saisir une adresse e-mail au format standard (nom@domaine). Dans SAP, elle est enregistrée comme donnée de communication (SMTP) et utilisée pour le contact. | E21: Introduzca el correo en formato estándar (nombre@dominio). En SAP se guarda como dato de comunicación (SMTP) y se usa para contacto.
A22: 25 | B22: Please select one of the four available SAP communication languages from the drop-down. | C22: Bitte eine der vier verfügbaren SAP-Kommunikationssprachen aus Dropdown wählen. | D22: Veuillez sélectionner l'une des quatre langues de communication SAP disponibles dans le menu déroulant. | E22: Seleccione uno de los cuatro idiomas de comunicación de SAP disponibles en el menú desplegable.
A23: 26
A24: 27
A25: 28 | B25: Account holder: the account holder's legal name. | C25: Kontoinhaber: rechtlicher Name des Kontoinhabers. | D25: Titulaire du compte : nom légal du titulaire du compte. | E25: Titular de la cuenta: nombre legal del titular de la cuenta.
A26: 29 | B26: Enter the IBAN without spaces and without prefixes such as “IBAN:”. In SAP this is stored as the primary bank account; country-specific format checks may apply. | C26: IBAN ohne Leerzeichen eingeben und ohne Zusätze wie „IBAN:“. In SAP wird dies als primäre Bankverbindung gespeichert; Formatprüfung erfolgt je nach Land. | D26: Saisir l'IBAN sans espaces et sans préfixe du type « IBAN : ». Dans SAP, il est enregistré comme compte bancaire principal ; des contrôles de format peuvent s'appliquer selon le pays. | E26: Introduzca el IBAN sin espacios y sin prefijos como “IBAN:”. En SAP se guarda como cuenta bancaria principal; pueden aplicarse validaciones según el país.
A27: 30 | B27: Only if no IBAN is available in the country: enter the account number without spaces. Use the official account number provided by the bank. | C27: Nur wenn im Land keine IBAN verfügbar: Kontonummer (ohne Leerzeichen). | D27: Uniquement si le pays ne dispose pas d'IBAN : saisir le numéro de compte sans espaces. Utiliser le numéro officiel communiqué par la banque. | E27: Solo si en el país no existe IBAN: introduzca el número de cuenta sin espacios. Use el número oficial proporcionado por el banco.
A28: 31 | B28: Enter the BIC/SWIFT code without spaces. If the SWIFT code has 8 characters, add "XXX". | C28: BIC/SWIFT-Code ohne Leerzeichen eintragen. Bei einem 8-stelligen SWIFT-Code „XXX“ ergänzen. | D28: Saisir le code BIC/SWIFT sans espaces. Si le code SWIFT comporte 8 caractères, ajouter « XXX ». | E28: Introduzca el código BIC/SWIFT sin espacios. Si el código SWIFT tiene 8 caracteres, añada "XXX".
A29: 32 | B29: Select the bank country from the drop-down (country name + ISO). This supports SAP checks for bank details and country-specific rules. | C29: Bankland aus Dropdown auswählen (Landname + ISO). | D29: Sélectionner le pays de la banque dans la liste déroulante (nom du pays + ISO). Cela permet les contrôles SAP liés aux coordonnées bancaires. | E29: Seleccione el país del banco en el desplegable (nombre del país + ISO). Esto ayuda a las validaciones de SAP para datos bancarios.
A30: 33
A31: 34
A32: 35 | B32: Enter the tax number issued by the local tax authority, without spaces. In SAP this supports tax-relevant master data and checks. | C32: Steuernummer gemäß lokaler Steuerbehörde (ohne Leerzeichen). | D32: Saisir le numéro fiscal délivré par l'administration fiscale locale, sans espaces. Dans SAP, cela alimente les données fiscales et les contrôles. | E32: Introduzca el número fiscal emitido por la autoridad fiscal local, sin espacios. En SAP se utiliza para datos maestros fiscales y validaciones.
