Workbook
Name Category_of_good: 'Dropdown menu'!$A$14:$A$32
Name Justification_for_non_neutral_specification: 'Dropdown menu'!$G$8:$G$12
Name yes_no: 'Dropdown menu'!$G$1:$G$3

Sheet Lot 1 (FC 1,5 - 4,5 kW)
A1: Lot # | B1: Position # | C1: Item description | D1: Technical Specification | E1: Warranty, months | F1: Unit of Measurement (UoM) | G1: Quantity
A2: 1 | B2: 1.1 | C2: Frequency converter 1,5-1,8 kW | D2: Power: 1.5 - 1.8 kW Output frequency range: 0 - 590 Hz Mounting: internal Operating modes: asynchronous and synchronous engines Housing protection level: not lower than IP20 Cooling: built-in ventilation Number of network phases: 3 Rated network voltage: 380...480 V +/-10% Rated network frequency: 50 Hz +4/-6% Maximum short-term phase asymmetry: 3% of rated voltage Maximum length of unshielded cable connection: not less than 300 m Maximum length of shielded cable connection: not less than 150 m Presence of built-in EMC filter: category C3 Presence of built-in choke in the DC link to reduce harmonics: THDi ≤48% at full load Service life of drive components – not less than 30,000 hours Efficiency: not less than 95% Discrete inputs/outputs: not less than 3/2 Analog inputs/outputs: not less than 2/1 Relay outputs: not less than 2 Interface: graphic display, fault log, RS485 port, USB port, cascade control Protection against: motor phase loss; motor short circuit; motor overheating; ground short circuit; internal overheating; current overload/underload, undervoltage/overvoltage. Technical passport (product passport) Certificate of conformity ISO 9001:2015, ISO 14001:2015 та ISO 45001:2019, or equivalent | E2: 24 | F2: pcs | G2: 12
A3: 1 | B3: 1.2 | C3: Frequency converter 2,2 - 2,6 kW | D3: Power: 2.2 - 2.6 kW Output frequency range: 0 - 590 Hz Mounting: internal Operating modes: asynchronous and synchronous engines Housing protection level: not lower than IP20 Cooling: built-in ventilation Number of network phases: 3 Rated network voltage: 380...480 V +/-10% Rated network frequency: 50 Hz +4/-6% Maximum short-term phase asymmetry: 3% of rated voltage Maximum length of unshielded cable connection: not less than 300 m Maximum length of shielded cable connection: not less than 150 m Presence of built-in EMC filter: category C3 Presence of built-in choke in the DC link to reduce harmonics: THDi ≤48% at full load Service life of drive components – not less than 30,000 hours Efficiency: not less than 95% Discrete inputs/outputs: not less than 3/2 Analog inputs/outputs: not less than 2/1 Relay outputs: not less than 2 Interface: graphic display, fault log, RS485 port, USB port, cascade control Protection against: motor phase loss; motor short circuit; motor overheating; ground short circuit; internal overheating; current overload/underload, undervoltage/overvoltage. Technical passport (product passport) Certificate of conformity ISO 9001:2015, ISO 14001:2015 та ISO 45001:2019, or equivalent | E3: 24 | F3: pcs | G3: 17
A4: 1 | B4: 1.3 | C4: Frequency converter 3,0 - 3,5 kW | D4: Power: 3.0 - 3.5 kW Output frequency range: 0 - 590 Hz Mounting: internal Operating modes: asynchronous and synchronous engines Housing protection level: not lower than IP20 Cooling: built-in ventilation Number of network phases: 3 Rated network voltage: 380...480 V +/-10% Rated network frequency: 50 Hz +4/-6% Maximum short-term phase asymmetry: 3% of rated voltage Maximum length of unshielded cable connection: not less than 300 m Maximum length of shielded cable connection: not less than 150 m Presence of built-in EMC filter: category C3 Presence of built-in choke in the DC link to reduce harmonics: THDi ≤48% at full load Service life of drive components – not less than 30,000 hours Efficiency: not less than 95% Discrete inputs/outputs: not less than 3/2 Analog inputs/outputs: not less than 2/1 Relay outputs: not less than 2 Interface: graphic display, fault log, RS485 port, USB port, cascade control Protection against: motor phase loss; motor short circuit; motor overheating; ground short circuit; internal overheating; current overload/underload, undervoltage/overvoltage. Technical passport (product passport) Certificate of conformity ISO 9001:2015, ISO 14001:2015 та ISO 45001:2019, or equivalent | E4: 24 | F4: pcs | G4: 23
A5: 1 | B5: 1.4 | C5: Frequency converter 4,0 - 4,5 kW | D5: Power: 4.0 - 4.5 kW Output frequency range: 0 - 590 Hz Mounting: internal Operating modes: asynchronous and synchronous engines Housing protection level: not lower than IP20 Cooling: built-in ventilation Number of network phases: 3 Rated network voltage: 380...480 V +/-10% Rated network frequency: 50 Hz +4/-6% Maximum short-term phase asymmetry: 3% of rated voltage Maximum length of unshielded cable connection: not less than 300 m Maximum length of shielded cable connection: not less than 150 m Presence of built-in EMC filter: category C3 Presence of built-in choke in the DC link to reduce harmonics: THDi ≤48% at full load Service life of drive components – not less than 30,000 hours Efficiency: not less than 95% Discrete inputs/outputs: not less than 3/2 Analog inputs/outputs: not less than 2/1 Relay outputs: not less than 2 Interface: graphic display, fault log, RS485 port, USB port, cascade control Protection against: motor phase loss; motor short circuit; motor overheating; ground short circuit; internal overheating; current overload/underload, undervoltage/overvoltage. Technical passport (product passport) Certificate of conformity ISO 9001:2015, ISO 14001:2015 та ISO 45001:2019, or equivalent | E5: 24 | F5: pcs | G5: 54
A6: Relevant for all Positions: Availability of an authorized service center in Ukraine. In the event of a warranty case, the center must resolve the issue within 30 days from the date of application.

Sheet Lot 2 (FC 5,5 - 8,0 kW)
A1: Lot # | B1: Position # | C1: Item description | D1: Technical Specification | E1: Warranty, months | F1: Unit of Measurement (UoM) | G1: Quantity
A2: 2 | B2: 2.1 | C2: Frequency converter 5,5 - 6,0 kW | D2: Power: 5.5 - 6.0 kW Output frequency range: 0 - 590 Hz Mounting: internal Operating modes: asynchronous and synchronous engines Housing protection level: not lower than IP20 Cooling: built-in ventilation Number of network phases: 3 Rated network voltage: 380...480 V +/-10% Rated network frequency: 50 Hz +4/-6% Maximum short-term phase asymmetry: 3% of rated voltage Maximum length of unshielded cable connection: not less than 300 m Maximum length of shielded cable connection: not less than 150 m Presence of built-in EMC filter: category C3 Presence of built-in choke in the DC link to reduce harmonics: THDi ≤48% at full load Service life of drive components – not less than 30,000 hours Efficiency: not less than 95% Discrete inputs/outputs: not less than 3/2 Analog inputs/outputs: not less than 2/1 Relay outputs: not less than 2 Interface: graphic display, fault log, RS485 port, USB port, cascade control Protection against: motor phase loss; motor short circuit; motor overheating; ground short circuit; internal overheating; current overload/underload, undervoltage/overvoltage. Technical passport (product passport) Certificate of conformity ISO 9001:2015, ISO 14001:2015 та ISO 45001:2019, or equivalent | E2: 24 | F2: pcs | G2: 26
A3: 2 | B3: 2.2 | C3: Frequency converter 7,5 - 8,0 kW | D3: Power: 7.5 - 8.0 kW Output frequency range: 0 - 590 Hz Mounting: internal Operating modes: asynchronous and synchronous engines Housing protection level: not lower than IP20 Cooling: built-in ventilation Number of network phases: 3 Rated network voltage: 380...480 V +/-10% Rated network frequency: 50 Hz +4/-6% Maximum short-term phase asymmetry: 3% of rated voltage Maximum length of unshielded cable connection: not less than 300 m Maximum length of shielded cable connection: not less than 150 m Presence of built-in EMC filter: category C3 Presence of built-in choke in the DC link to reduce harmonics: THDi ≤48% at full load Service life of drive components – not less than 30,000 hours Efficiency: not less than 95% Discrete inputs/outputs: not less than 3/2 Analog inputs/outputs: not less than 2/1 Relay outputs: not less than 2 Interface: graphic display, fault log, RS485 port, USB port, cascade control Protection against: motor phase loss; motor short circuit; motor overheating; ground short circuit; internal overheating; current overload/underload, undervoltage/overvoltage. Technical passport (product passport) Certificate of conformity ISO 9001:2015, ISO 14001:2015 та ISO 45001:2019, or equivalent | E3: 24 | F3: pcs | G3: 74
A4: Relevant for all Positions: Availability of an authorized service center in Ukraine. In the event of a warranty case, the center must resolve the issue within 30 days from the date of application.

Sheet Lot 3 (FC 11 - 16 kW)
A1: Lot # | B1: Position # | C1: Item description | D1: Technical Specification | E1: Warranty, months | F1: Unit of Measurement (UoM) | G1: Quantity
A2: 3 | B2: 3.1 | C2: Frequency converter 11 - 12 kW | D2: Power: 11.0 - 12.0 kW Output frequency range: 0 - 590 Hz Mounting: internal Operating modes: asynchronous and synchronous engines Housing protection level: not lower than IP20 Cooling: built-in ventilation Number of network phases: 3 Rated network voltage: 380...480 V +/-10% Rated network frequency: 50 Hz +4/-6% Maximum short-term phase asymmetry: 3% of rated voltage Maximum length of unshielded cable connection: not less than 300 m Maximum length of shielded cable connection: not less than 150 m Presence of built-in EMC filter: category C3 Presence of built-in choke in the DC link to reduce harmonics: THDi ≤48% at full load Service life of drive components – not less than 30,000 hours Efficiency: not less than 95% Discrete inputs/outputs: not less than 3/2 Analog inputs/outputs: not less than 2/1 Relay outputs: not less than 2 Interface: graphic display, fault log, RS485 port, USB port, cascade control Protection against: motor phase loss; motor short circuit; motor overheating; ground short circuit; internal overheating; current overload/underload, undervoltage/overvoltage. Technical passport (product passport) Certificate of conformity ISO 9001:2015, ISO 14001:2015 та ISO 45001:2019, or equivalent | E2: 24 | F2: pcs | G2: 24
A3: 3 | B3: 3.2 | C3: Frequency converter 15 - 16 kW | D3: Power: 15.0 - 16.0 kW Output frequency range: 0 - 590 Hz Mounting: internal Operating modes: asynchronous and synchronous engines Housing protection level: not lower than IP20 Cooling: built-in ventilation Number of network phases: 3 Rated network voltage: 380...480 V +/-10% Rated network frequency: 50 Hz +4/-6% Maximum short-term phase asymmetry: 3% of rated voltage Maximum length of unshielded cable connection: not less than 300 m Maximum length of shielded cable connection: not less than 150 m Presence of built-in EMC filter: category C3 Presence of built-in choke in the DC link to reduce harmonics: THDi ≤48% at full load Service life of drive components – not less than 30,000 hours Efficiency: not less than 95% Discrete inputs/outputs: not less than 3/2 Analog inputs/outputs: not less than 2/1 Relay outputs: not less than 2 Interface: graphic display, fault log, RS485 port, USB port, cascade control Protection against: motor phase loss; motor short circuit; motor overheating; ground short circuit; internal overheating; current overload/underload, undervoltage/overvoltage. Technical passport (product passport) Certificate of conformity ISO 9001:2015, ISO 14001:2015 та ISO 45001:2019, or equivalent | E3: 24 | F3: pcs | G3: 57
A4: Relevant for all Positions: Availability of an authorized service center in Ukraine. In the event of a warranty case, the center must resolve the issue within 30 days from the date of application.

Sheet Lot 4 (FC 18 - 23 kW)
A1: Lot # | B1: Position # | C1: Item description | D1: Technical Specification | E1: Warranty, months | F1: Unit of Measurement (UoM) | G1: Quantity
A2: 4 | B2: 4.1 | C2: Frequency converter 18 - 19 kW | D2: Power: 18.0 - 19.0 kW Output frequency range: 0 - 590 Hz Mounting: internal Operating modes: asynchronous and synchronous engines Housing protection level: not lower than IP20 Cooling: built-in ventilation Number of network phases: 3 Rated network voltage: 380...480 V +/-10% Rated network frequency: 50 Hz +4/-6% Maximum short-term phase asymmetry: 3% of rated voltage Maximum length of unshielded cable connection: not less than 300 m Maximum length of shielded cable connection: not less than 150 m Presence of built-in EMC filter: category C3 Presence of built-in choke in the DC link to reduce harmonics: THDi ≤48% at full load Service life of drive components – not less than 30,000 hours Efficiency: not less than 95% Discrete inputs/outputs: not less than 3/2 Analog inputs/outputs: not less than 2/1 Relay outputs: not less than 2 Interface: graphic display, fault log, RS485 port, USB port, cascade control Protection against: motor phase loss; motor short circuit; motor overheating; ground short circuit; internal overheating; current overload/underload, undervoltage/overvoltage. Technical passport (product passport) Certificate of conformity ISO 9001:2015, ISO 14001:2015 та ISO 45001:2019, or equivalent | E2: 24 | F2: pcs | G2: 46
A3: 4 | B3: 4.2 | C3: Frequency converter 22 - 23 kW | D3: Power: 22.0 - 23.0 kW Output frequency range: 0 - 590 Hz Mounting: internal Operating modes: asynchronous and synchronous engines Housing protection level: not lower than IP20 Cooling: built-in ventilation Number of network phases: 3 Rated network voltage: 380...480 V +/-10% Rated network frequency: 50 Hz +4/-6% Maximum short-term phase asymmetry: 3% of rated voltage Maximum length of unshielded cable connection: not less than 300 m Maximum length of shielded cable connection: not less than 150 m Presence of built-in EMC filter: category C3 Presence of built-in choke in the DC link to reduce harmonics: THDi ≤48% at full load Service life of drive components – not less than 30,000 hours Efficiency: not less than 95% Discrete inputs/outputs: not less than 3/2 Analog inputs/outputs: not less than 2/1 Relay outputs: not less than 2 Interface: graphic display, fault log, RS485 port, USB port, cascade control Protection against: motor phase loss; motor short circuit; motor overheating; ground short circuit; internal overheating; current overload/underload, undervoltage/overvoltage. Technical passport (product passport) Certificate of conformity ISO 9001:2015, ISO 14001:2015 та ISO 45001:2019, or equivalent | E3: 24 | F3: pcs | G3: 60
A4: Relevant for all Positions: Availability of an authorized service center in Ukraine. In the event of a warranty case, the center must resolve the issue within 30 days from the date of application.

Sheet Lot 5 (FC 30 - 60 kW)
A1: Lot # | B1: Position # | C1: Item description | D1: Technical Specification | E1: Warranty, months | F1: Unit of Measurement (UoM) | G1: Quantity
A2: 5 | B2: 5.1 | C2: Frequency converter 30 - 32 kW | D2: Power: 30.0 - 32.0 kW Output frequency range: 0 - 590 Hz Mounting: internal Operating modes: asynchronous and synchronous engines Housing protection level: not lower than IP20 Cooling: built-in ventilation Number of network phases: 3 Rated network voltage: 380...480 V +/-10% Rated network frequency: 50 Hz +4/-6% Maximum short-term phase asymmetry: 3% of rated voltage Maximum length of unshielded cable connection: not less than 300 m Maximum length of shielded cable connection: not less than 150 m Presence of built-in EMC filter: category C3 Presence of built-in choke in the DC link to reduce harmonics: THDi ≤48% at full load Service life of drive components – not less than 30,000 hours Efficiency: not less than 95% Discrete inputs/outputs: not less than 3/2 Analog inputs/outputs: not less than 2/1 Relay outputs: not less than 2 Interface: graphic display, fault log, RS485 port, USB port, cascade control Protection against: motor phase loss; motor short circuit; motor overheating; ground short circuit; internal overheating; current overload/underload, undervoltage/overvoltage. Technical passport (product passport) Certificate of conformity ISO 9001:2015, ISO 14001:2015 та ISO 45001:2019, or equivalent | E2: 24 | F2: pcs | G2: 31
A3: 5 | B3: 5.2 | C3: Frequency converter 37 - 39 kW | D3: Power: 37.0 - 39.0 kW Output frequency range: 0 - 590 Hz Mounting: internal Operating modes: asynchronous and synchronous engines Housing protection level: not lower than IP20 Cooling: built-in ventilation Number of network phases: 3 Rated network voltage: 380...480 V +/-10% Rated network frequency: 50 Hz +4/-6% Maximum short-term phase asymmetry: 3% of rated voltage Maximum length of unshielded cable connection: not less than 300 m Maximum length of shielded cable connection: not less than 150 m Presence of built-in EMC filter: category C3 Presence of built-in choke in the DC link to reduce harmonics: THDi ≤48% at full load Service life of drive components – not less than 30,000 hours Efficiency: not less than 95% Discrete inputs/outputs: not less than 3/2 Analog inputs/outputs: not less than 2/1 Relay outputs: not less than 2 Interface: graphic display, fault log, RS485 port, USB port, cascade control Protection against: motor phase loss; motor short circuit; motor overheating; ground short circuit; internal overheating; current overload/underload, undervoltage/overvoltage. Technical passport (product passport) Certificate of conformity ISO 9001:2015, ISO 14001:2015 та ISO 45001:2019, or equivalent | E3: 24 | F3: pcs | G3: 28
A4: 5 | B4: 5.3 | C4: Frequency converter 55 - 60 kW | D4: Power: 55.0 - 60.0 kW Output frequency range: 0 - 590 Hz Mounting: internal Operating modes: asynchronous and synchronous engines Housing protection level: not lower than IP20 Cooling: built-in ventilation Number of network phases: 3 Rated network voltage: 380...480 V +/-10% Rated network frequency: 50 Hz +4/-6% Maximum short-term phase asymmetry: 3% of rated voltage Maximum length of unshielded cable connection: not less than 300 m Maximum length of shielded cable connection: not less than 150 m Presence of built-in EMC filter: category C3 Presence of built-in choke in the DC link to reduce harmonics: THDi ≤48% at full load Service life of drive components – not less than 30,000 hours Efficiency: not less than 95% Discrete inputs/outputs: not less than 3/2 Analog inputs/outputs: not less than 2/1 Relay outputs: not less than 2 Interface: graphic display, fault log, RS485 port, USB port, cascade control Protection against: motor phase loss; motor short circuit; motor overheating; ground short circuit; internal overheating; current overload/underload, undervoltage/overvoltage. Technical passport (product passport) Certificate of conformity ISO 9001:2015, ISO 14001:2015 та ISO 45001:2019, or equivalent | E4: 24 | F4: pcs | G4: 45
A5: Relevant for all Positions: Availability of an authorized service center in Ukraine. In the event of a warranty case, the center must resolve the issue within 30 days from the date of application.

Sheet Lot 6 (FC 75 - 255 kW)
A1: Lot # | B1: Position # | C1: Item description | D1: Technical Specification | E1: Warranty, months | F1: Unit of Measurement (UoM) | G1: Quantity
A2: 6 | B2: 6.1 | C2: Frequency converter 75 - 80 kW | D2: Power: 75.0 - 80.0 kW Output frequency range: 0 - 590 Hz Mounting: internal Operating modes: asynchronous and synchronous engines Housing protection level: not lower than IP20 Cooling: built-in ventilation Number of network phases: 3 Rated network voltage: 380...480 V +/-10% Rated network frequency: 50 Hz +4/-6% Maximum short-term phase asymmetry: 3% of rated voltage Maximum length of unshielded cable connection: not less than 300 m Maximum length of shielded cable connection: not less than 150 m Presence of built-in EMC filter: category C3 Presence of built-in choke in the DC link to reduce harmonics: THDi ≤48% at full load Service life of drive components – not less than 30,000 hours Efficiency: not less than 95% Discrete inputs/outputs: not less than 3/2 Analog inputs/outputs: not less than 2/1 Relay outputs: not less than 2 Interface: graphic display, fault log, RS485 port, USB port, cascade control Protection against: motor phase loss; motor short circuit; motor overheating; ground short circuit; internal overheating; current overload/underload, undervoltage/overvoltage. Technical passport (product passport) Certificate of conformity ISO 9001:2015, ISO 14001:2015 та ISO 45001:2019, or equivalent | E2: 24 | F2: pcs | G2: 31
A3: 6 | B3: 6.2 | C3: Frequency converter 90 - 95 kW | D3: Power: 90.0 - 95.0 kW Output frequency range: 0 - 590 Hz Mounting: internal Operating modes: asynchronous and synchronous engines Housing protection level: not lower than IP20 Cooling: built-in ventilation Number of network phases: 3 Rated network voltage: 380...480 V +/-10% Rated network frequency: 50 Hz +4/-6% Maximum short-term phase asymmetry: 3% of rated voltage Maximum length of unshielded cable connection: not less than 300 m Maximum length of shielded cable connection: not less than 150 m Presence of built-in EMC filter: category C3 Presence of built-in choke in the DC link to reduce harmonics: THDi ≤48% at full load Service life of drive components – not less than 30,000 hours Efficiency: not less than 95% Discrete inputs/outputs: not less than 3/2 Analog inputs/outputs: not less than 2/1 Relay outputs: not less than 2 Interface: graphic display, fault log, RS485 port, USB port, cascade control Protection against: motor phase loss; motor short circuit; motor overheating; ground short circuit; internal overheating; current overload/underload, undervoltage/overvoltage. Technical passport (product passport) Certificate of conformity ISO 9001:2015, ISO 14001:2015 та ISO 45001:2019, or equivalent | E3: 24 | F3: pcs | G3: 29
A4: 1 | B4: 6.3 | C4: Frequency converter 132 - 137 kW | D4: Power: 132.0 - 137.0 kW Output frequency range: 0 - 590 Hz Mounting: internal Operating modes: asynchronous and synchronous engines Housing protection level: not lower than IP20 Cooling: built-in ventilation Number of network phases: 3 Rated network voltage: 380...480 V +/-10% Rated network frequency: 50 Hz +4/-6% Maximum short-term phase asymmetry: 3% of rated voltage Maximum length of unshielded cable connection: not less than 300 m Maximum length of shielded cable connection: not less than 150 m Presence of built-in EMC filter: category C3 Presence of built-in choke in the DC link to reduce harmonics: THDi ≤48% at full load Service life of drive components – not less than 30,000 hours Efficiency: not less than 95% Discrete inputs/outputs: not less than 3/2 Analog inputs/outputs: not less than 2/1 Relay outputs: not less than 2 Interface: graphic display, fault log, RS485 port, USB port, cascade control Protection against: motor phase loss; motor short circuit; motor overheating; ground short circuit; internal overheating; current overload/underload, undervoltage/overvoltage. Technical passport (product passport) Certificate of conformity ISO 9001:2015, ISO 14001:2015 та ISO 45001:2019, or equivalent | E4: 24 | F4: pcs | G4: 31
A5: 6 | B5: 6.4 | C5: Frequency converter 150 - 160 kW | D5: Power: 150.0 - 160.0 kW Output frequency range: 0 - 590 Hz Mounting: internal Operating modes: asynchronous and synchronous engines Housing protection level: not lower than IP20 Cooling: built-in ventilation Number of network phases: 3 Rated network voltage: 380...480 V +/-10% Rated network frequency: 50 Hz +4/-6% Maximum short-term phase asymmetry: 3% of rated voltage Maximum length of unshielded cable connection: not less than 300 m Maximum length of shielded cable connection: not less than 150 m Presence of built-in EMC filter: category C3 Presence of built-in choke in the DC link to reduce harmonics: THDi ≤48% at full load Service life of drive components – not less than 30,000 hours Efficiency: not less than 95% Discrete inputs/outputs: not less than 3/2 Analog inputs/outputs: not less than 2/1 Relay outputs: not less than 2 Interface: graphic display, fault log, RS485 port, USB port, cascade control Protection against: motor phase loss; motor short circuit; motor overheating; ground short circuit; internal overheating; current overload/underload, undervoltage/overvoltage. Technical passport (product passport) Certificate of conformity ISO 9001:2015, ISO 14001:2015 та ISO 45001:2019, or equivalent | E5: 24 | F5: pcs | G5: 8
A6: 6 | B6: 6.5 | C6: Frequency converter 250-255 kW | D6: Power: 250.0 - 255.0 kW Output frequency range: 0 - 590 Hz Mounting: internal Operating modes: asynchronous and synchronous engines Housing protection level: not lower than IP20 Cooling: built-in ventilation Number of network phases: 3 Rated network voltage: 380...480 V +/-10% Rated network frequency: 50 Hz +4/-6% Maximum short-term phase asymmetry: 3% of rated voltage Maximum length of unshielded cable connection: not less than 300 m Maximum length of shielded cable connection: not less than 150 m Presence of built-in EMC filter: category C3 Presence of built-in choke in the DC link to reduce harmonics: THDi ≤48% at full load Service life of drive components – not less than 30,000 hours Efficiency: not less than 95% Discrete inputs/outputs: not less than 3/2 Analog inputs/outputs: not less than 2/1 Relay outputs: not less than 2 Interface: graphic display, fault log, RS485 port, USB port, cascade control Protection against: motor phase loss; motor short circuit; motor overheating; ground short circuit; internal overheating; current overload/underload, undervoltage/overvoltage. Technical passport (product passport) Certificate of conformity ISO 9001:2015, ISO 14001:2015 та ISO 45001:2019, or equivalent | E6: 24 | F6: pcs | G6: 23
A7: Relevant for all Positions: Availability of an authorized service center in Ukraine. In the event of a warranty case, the center must resolve the issue within 30 days from the date of application.

Sheet Lot 7 (FC 30 - 32 kW) (subject 
A1: Lot # | B1: Position # | C1: Item description | D1: Technical Specification | E1: Warranty, months | F1: Unit of Measurement (UoM) | G1: Quantity
A2: 7 (subject to confirmation / vorbehaltlich) | B2: 7.1 | C2: Frequency converter 30 - 32 kW | D2: Power: 30.0 - 32.0 kW Output frequency range: 0 - 590 Hz Mounting: internal Operating modes: asynchronous and synchronous engines Housing protection level: not lower than IP20 Cooling: built-in ventilation Number of network phases: 3 Rated network voltage: 380...480 V +/-10% Rated network frequency: 50 Hz +4/-6% Maximum short-term phase asymmetry: 3% of rated voltage Maximum length of unshielded cable connection: not less than 300 m Maximum length of shielded cable connection: not less than 150 m Presence of built-in EMC filter: category C3 Presence of built-in choke in the DC link to reduce harmonics: THDi ≤48% at full load Service life of drive components – not less than 30,000 hours Efficiency: not less than 95% Discrete inputs/outputs: not less than 3/2 Analog inputs/outputs: not less than 2/1 Relay outputs: not less than 2 Interface: graphic display, fault log, RS485 port, USB port, cascade control Protection against: motor phase loss; motor short circuit; motor overheating; ground short circuit; internal overheating; current overload/underload, undervoltage/overvoltage. Technical passport (product passport) Certificate of conformity ISO 9001:2015, ISO 14001:2015 та ISO 45001:2019 or equivalent | E2: 24 | F2: pcs | G2: 92
A3: Relevant for all Positions: Availability of an authorized service center in Ukraine. In the event of a warranty case, the center must resolve the issue within 30 days from the date of application.

Sheet Lot 8 (75 - 80 kW) (subject to 
A1: Lot # | B1: Position # | C1: Item description | D1: Technical Specification | E1: Warranty, months | F1: Unit of Measurement (UoM) | G1: Quantity
A2: 8 (subject to confirmation / vorbehaltlich) | B2: 8.1 | C2: Frequency converter 75 - 80 kW | D2: Power: 75.0 - 80.0 kW Output frequency range: 0 - 590 Hz Mounting: internal Operating modes: asynchronous and synchronous engines Housing protection level: not lower than IP20 Cooling: built-in ventilation Number of network phases: 3 Rated network voltage: 380...480 V +/-10% Rated network frequency: 50 Hz +4/-6% Maximum short-term phase asymmetry: 3% of rated voltage Maximum length of unshielded cable connection: not less than 300 m Maximum length of shielded cable connection: not less than 150 m Presence of built-in EMC filter: category C3 Presence of built-in choke in the DC link to reduce harmonics: THDi ≤48% at full load Service life of drive components – not less than 30,000 hours Efficiency: not less than 95% Discrete inputs/outputs: not less than 3/2 Analog inputs/outputs: not less than 2/1 Relay outputs: not less than 2 Interface: graphic display, fault log, RS485 port, USB port, cascade control Protection against: motor phase loss; motor short circuit; motor overheating; ground short circuit; internal overheating; current overload/underload, undervoltage/overvoltage. Technical passport (product passport) Certificate of conformity ISO 9001:2015, ISO 14001:2015 та ISO 45001:2019, or equivalent | E2: 24 | F2: pcs | G2: 80
A3: Relevant for all Positions: Availability of an authorized service center in Ukraine. In the event of a warranty case, the center must resolve the issue within 30 days from the date of application.

Sheet Delivery Plan
B1: CONFIDENTIAL
C2: Position #
A3: № | B3: Delivery address | C3: 1.1 | D3: 1.2 | E3: 1.3 | F3: 1.4 | G3: 2.1 | H3: 2.2 | I3: 3.1 | J3: 3.2 | K3: 4.1 | L3: 4.2 | M3: 5.1 | N3: 5.2 | O3: 5.3 | P3: 6.1 | Q3: 6.2 | R3: 6.3 | S3: 6.4 | T3: 6.5 | U3: 7.1 | V3: 8.1
C4: Quantity for delivery, pcs
A5: 1 | B5: Cherkasy city, Cherkasy region | C5: 1 | D5: 2 | E5: 2 | F5: 7 | G5: 1 | H5: 10 | I5: 3 | J5: 1 | L5: 3 | M5: 1 | O5: 8 | P5: 1 | Q5: 1 | R5: 2 | S5: 1 | T5: 2
A6: 2 | B6: Smila town, Cherkasy region | F6: 3 | H6: 1 | I6: 1 | J6: 2 | K6: 2 | L6: 1 | N6: 4 | O6: 2 | P6: 1 | T6: 2
A7: 3 | B7: Monastyryshche town, Cherkasy region | E7: 4 | I7: 2 | J7: 2 | K7: 1 | L7: 1 | N7: 1 | O7: 3 | R7: 2 | S7: 1
A8: 4 | B8: Teplodar town, Odesa region | J8: 1 | L8: 1 | M8: 2 | P8: 2 | S8: 2 | T8: 1
B9: Kyiv | C9: 4 | D9: 4 | E9: 6 | F9: 20 | G9: 6 | I9: 1 | J9: 20 | K9: 20 | L9: 10 | P9: 10 | Q9: 10 | R9: 10 | T9: 10
A10: 5 | B10: Vyshgorod city, Kyiv region | C10: 1 | J10: 2 | L10: 6 | M10: 1 | R10: 4 | T10: 2
B11: Bila Tserkva | J11: 2 | M11: 4 | O11: 6 | P11: 5 | Q11: 4 | R11: 4
B12: Mykolaiv | D12: 3 | E12: 4 | F12: 4 | G12: 4 | H12: 10 | I12: 4 | J12: 4 | K12: 2 | L12: 3 | M12: 1 | N12: 1 | O12: 1
B13: Shostka, Sumy region | L13: 1 | S13: 1 | T13: 3
B14: Pryluky, Chernihiv region | D14: 2 | E14: 3 | F14: 3 | G14: 2 | H14: 3 | I14: 2 | J14: 2 | L14: 4 | M14: 3 | N14: 5 | O14: 4 | P14: 3 | Q14: 4 | R14: 4 | S14: 2 | T14: 1
B15: Sumy | H15: 5 | J15: 5 | L15: 14 | M15: 3
B16: Chernihiv 1 | N16: 4 | P16: 1 | Q16: 3 | R16: 4
B17: Chernihiv 2 | F17: 11 | G17: 1 | H17: 32 | I17: 3 | J17: 8 | K17: 17 | L17: 6 | M17: 15 | O17: 7 | P17: 1
A18: 6 | B18: Lviv city, Lviv region | C18: 6 | D18: 6 | E18: 4 | F18: 6 | G18: 8 | H18: 12 | I18: 8 | J18: 8 | K18: 4 | L18: 4 | N18: 2 | O18: 10
A19: 7 | B19: Kropyvnytskyi, Kirovograd region | G19: 3 | L19: 6 | N19: 6 | O19: 4 | P19: 3 | Q19: 4 | S19: 1 | T19: 2
A20: 8 | B20: Novovolynsk, Volynskiy region | N20: 3 | P20: 4 | Q20: 3 | R20: 1
A21: 9 | B21: Svitlovodsk, Kirovograd region | G21: 1 | H21: 1 | M21: 1 | N21: 2
C22: =SUM(C5:C21) -> 12 | D22: =SUM(D5:D21) -> 17 | E22: =SUM(E5:E21) -> 23 | F22: =SUM(F5:F21) -> 54 | G22: =SUM(G5:G21) -> 26 | H22: =SUM(H5:H21) -> 74 | I22: =SUM(I5:I21) -> 24 | J22: =SUM(J5:J21) -> 57 | ... T22: =SUM(T5:T21) -> 23
C23: ='Lot 1 (FC 1,5 - 4,5 kW)'!G2 -> 12 | D23: ='Lot 1 (FC 1,5 - 4,5 kW)'!G3 -> 17 | E23: ='Lot 1 (FC 1,5 - 4,5 kW)'!G4 -> 23 | F23: ='Lot 1 (FC 1,5 - 4,5 kW)'!G5 -> 54 | G23: ='Lot 2 (FC 5,5 - 8,0 kW)'!G2 -> 26 | H23: ='Lot 2 (FC 5,5 - 8,0 kW)'!G3 -> 74 | I23: ='Lot 3 (FC 11 - 16 kW)'!G2 -> 24 | J23: ='Lot 3 (FC 11 - 16 kW)'!G3 -> 57 | K23: ='Lot 4 (FC 18 - 23 kW)'!G2 -> 46 | L23: ='Lot 4 (FC 18 - 23 kW)'!G3 -> 60 | M23: ='Lot 5 (FC 30 - 60 kW)'!G2 -> 31 | N23: ='Lot 5 (FC 30 - 60 kW)'!G3 -> 28 | O23: ='Lot 5 (FC 30 - 60 kW)'!G4 -> 45 | P23: ='Lot 6 (FC 75 - 255 kW)'!G2 -> 31 | Q23: ='Lot 6 (FC 75 - 255 kW)'!G3 -> 29 | R23: ='Lot 6 (FC 75 - 255 kW)'!G4 -> 31 | S23: ='Lot 6 (FC 75 - 255 kW)'!G5 -> 8 | T23: ='Lot 6 (FC 75 - 255 kW)'!G6 -> 23 | U23: 92 | V23: 80
C24: =C22-C23 -> 0 | D24: =D22-D23 -> 0 | E24: =E22-E23 -> 0 | F24: =F22-F23 -> 0 | G24: =G22-G23 -> 0 | H24: =H22-H23 -> 0 | I24: =I22-I23 -> 0 | J24: =J22-J23 -> 0 | ... T24: =T22-T23 -> 0

Sheet Dropdown menu
A1: Type of Equipment | G1: please choose
A2: Notebook | G2: Yes
A3: PC | G3: No
A4: Accesorities | B4: (Mouse, Keyboard, Docking Station..)
A5: Office technic | B5: Telephone,MFD, printer
A6: Network components | B6: Router, switch, UPS
A7: Cartridge | G7: Justification for non-neutral specification
A8: Licence, Software | G8: please choose
A9: Monitor | G9: Special manufacturing
A10: TV | G10: Compatibility/Standartization in the Project/ Partner organisation
G11: Spare parts/ Aditional equipment/ accessories only by one Supplier
G12: Maintenance
A13: Category of good:
A14: please choose
A15: S01 Food, beverages, tobacco products
A16: S02 Computer system
A17: S03 Telecommunications device
A18: S04 Standard Software rent (goods)
A19: S05 Standard Software buy (goods)
A20: S06 Plant Equipment, tool
A21: S07 Construction technology
A22: S08 Office product, facility and technic, papeterie
A23: S09 Literature
A24: S10 Hardware rent
... A40: S26 Interior furnishing (excl. Office furnishings)
